Workbook

Sheet Datos de la Escuela
A2: Datos del Alumno | D2: Datos de la Escuela
A3: N.P | B3: Nombre completo
A4: 1 | B4: A | D4: NOMBRE DE LA ESCUELA | E4: Escuela
A5: 2 | B5: B | D5: NOMBRE DEL DIRECTOR
A6: 3 | B6: C | D6: PROFR. DEL GRUPO | E6: El Profe ReMa
A7: 4 | B7: D | D7: GRADO | E7: °
A8: 5 | B8: E | D8: GRUPO | E8: A
A9: 6 | B9: A | D9: TURNO | E9: Matutino
A10: 7 | B10: A | D10: LOCALIDAD
A11: 8 | B11: A
A12: 9 | B12: A
A13: 10 | B13: A
A14: 11 | B14: A
A15: 12 | B15: A
A16: 13 | B16: A
A17: 14 | B17: A
A18: 15 | B18: A
A19: 16 | B19: A
A20: 17 | B20: A
A21: 18 | B21: A
A22: 19 | B22: A
... A38: 35 | B38: A

Sheet SisAT Lectura
A2: TABLA DE RESULTADOS "LECTURA" POR GRUPO
A3: COLOQUE UN "1" , "2" o "3" SEGÚN SEA EL CASO
A4: N.P | B4: ALUMNO (A) | C4: I | D4: II | E4: III | F4: IV | G4: V | H4: VI | I4: PUNTOS | J4: NIVEL
A5: 1 | B5: =IF('Datos de la Escuela'!B4="","",'Datos de la Escuela'!B4) -> A | I5: =SUM(C5:H5) -> 0 | J5: =IF(I5=0,"SIN EVIDENCIAS",IF(I5<=9,"REQUIERE APOYO PARA EL APRENDIZAJE",IF(I5<=14,"EN PROCESO DE DESARROLLO","APRENDIZAJE DESARROLLADO"))) -> SIN EVIDENCIAS
A6: 2 | B6: =IF('Datos de la Escuela'!B5="","",'Datos de la Escuela'!B5) -> B | I6: =SUM(C6:H6) -> 0 | J6: =IF(I6=0,"SIN EVIDENCIAS",IF(I6<=9,"REQUIERE APOYO PARA EL APRENDIZAJE",IF(I6<=14,"EN PROCESO DE DESARROLLO","APRENDIZAJE DESARROLLADO"))) -> SIN EVIDENCIAS
A7: 3 | B7: =IF('Datos de la Escuela'!B6="","",'Datos de la Escuela'!B6) -> C | I7: =SUM(C7:H7) -> 0 | J7: =IF(I7=0,"SIN EVIDENCIAS",IF(I7<=9,"REQUIERE APOYO PARA EL APRENDIZAJE",IF(I7<=14,"EN PROCESO DE DESARROLLO","APRENDIZAJE DESARROLLADO"))) -> SIN EVIDENCIAS
A8: 4 | B8: =IF('Datos de la Escuela'!B7="","",'Datos de la Escuela'!B7) -> D | I8: =SUM(C8:H8) -> 0 | J8: =IF(I8=0,"SIN EVIDENCIAS",IF(I8<=9,"REQUIERE APOYO PARA EL APRENDIZAJE",IF(I8<=14,"EN PROCESO DE DESARROLLO","APRENDIZAJE DESARROLLADO"))) -> SIN EVIDENCIAS
A9: 5 | B9: =IF('Datos de la Escuela'!B8="","",'Datos de la Escuela'!B8) -> E | I9: =SUM(C9:H9) -> 0 | J9: =IF(I9=0,"SIN EVIDENCIAS",IF(I9<=9,"REQUIERE APOYO PARA EL APRENDIZAJE",IF(I9<=14,"EN PROCESO DE DESARROLLO","APRENDIZAJE DESARROLLADO"))) -> SIN EVIDENCIAS
A10: 6 | B10: =IF('Datos de la Escuela'!B9="","",'Datos de la Escuela'!B9) -> A | I10: =SUM(C10:H10) -> 0 | J10: =IF(I10=0,"SIN EVIDENCIAS",IF(I10<=9,"REQUIERE APOYO PARA EL APRENDIZAJE",IF(I10<=14,"EN PROCESO DE DESARROLLO","APRENDIZAJE DESARROLLADO"))) -> SIN EVIDENCIAS
A11: 7 | B11: =IF('Datos de la Escuela'!B10="","",'Datos de la Escuela'!B10) -> A | I11: =SUM(C11:H11) -> 0 | J11: =IF(I11=0,"SIN EVIDENCIAS",IF(I11<=9,"REQUIERE APOYO PARA EL APRENDIZAJE",IF(I11<=14,"EN PROCESO DE DESARROLLO","APRENDIZAJE DESARROLLADO"))) -> SIN EVIDENCIAS
A12: 8 | B12: =IF('Datos de la Escuela'!B11="","",'Datos de la Escuela'!B11) -> A | I12: =SUM(C12:H12) -> 0 | J12: =IF(I12=0,"SIN EVIDENCIAS",IF(I12<=9,"REQUIERE APOYO PARA EL APRENDIZAJE",IF(I12<=14,"EN PROCESO DE DESARROLLO","APRENDIZAJE DESARROLLADO"))) -> SIN EVIDENCIAS
A13: 9 | B13: =IF('Datos de la Escuela'!B12="","",'Datos de la Escuela'!B12) -> A | I13: =SUM(C13:H13) -> 0 | J13: =IF(I13=0,"SIN EVIDENCIAS",IF(I13<=9,"REQUIERE APOYO PARA EL APRENDIZAJE",IF(I13<=14,"EN PROCESO DE DESARROLLO","APRENDIZAJE DESARROLLADO"))) -> SIN EVIDENCIAS
A14: 10 | B14: =IF('Datos de la Escuela'!B13="","",'Datos de la Escuela'!B13) -> A | I14: =SUM(C14:H14) -> 0 | J14: =IF(I14=0,"SIN EVIDENCIAS",IF(I14<=9,"REQUIERE APOYO PARA EL APRENDIZAJE",IF(I14<=14,"EN PROCESO DE DESARROLLO","APRENDIZAJE DESARROLLADO"))) -> SIN EVIDENCIAS
A15: 11 | B15: =IF('Datos de la Escuela'!B14="","",'Datos de la Escuela'!B14) -> A | I15: =SUM(C15:H15) -> 0 | J15: =IF(I15=0,"SIN EVIDENCIAS",IF(I15<=9,"REQUIERE APOYO PARA EL APRENDIZAJE",IF(I15<=14,"EN PROCESO DE DESARROLLO","APRENDIZAJE DESARROLLADO"))) -> SIN EVIDENCIAS
A16: 12 | B16: =IF('Datos de la Escuela'!B15="","",'Datos de la Escuela'!B15) -> A | I16: =SUM(C16:H16) -> 0 | J16: =IF(I16=0,"SIN EVIDENCIAS",IF(I16<=9,"REQUIERE APOYO PARA EL APRENDIZAJE",IF(I16<=14,"EN PROCESO DE DESARROLLO","APRENDIZAJE DESARROLLADO"))) -> SIN EVIDENCIAS
... A39: 35 | B39: =IF('Datos de la Escuela'!B38="","",'Datos de la Escuela'!B38) -> A | I39: =SUM(C39:H39) -> 0 | J39: =IF(I39=0,"SIN EVIDENCIAS",IF(I39<=9,"REQUIERE APOYO PARA EL APRENDIZAJE",IF(I39<=14,"EN PROCESO DE DESARROLLO","APRENDIZAJE DESARROLLADO"))) -> SIN EVIDENCIAS

Sheet SisAT Textos
A2: TABLA DE RESULTADOS "PRODUCCIÓN DE TEXTOS" POR GRUPO
A3: COLOQUE UN "1" , "2" o "3" SEGÚN SEA EL CASO
A4: N.P | B4: ALUMNO (A) | C4: I | D4: II | E4: III | F4: IV | G4: V | H4: VI | I4: PUNTOS | J4: NIVEL
A5: 1 | B5: =IF('Datos de la Escuela'!B4="","",'Datos de la Escuela'!B4) -> A | I5: =SUM(C5:H5) -> 0 | J5: =IF(I5=0,"SIN EVIDENCIAS",IF(I5<=9,"REQUIERE APOYO PARA EL APRENDIZAJE",IF(I5<=14,"EN PROCESO DE DESARROLLO","APRENDIZAJE DESARROLLADO"))) -> SIN EVIDENCIAS
A6: 2 | B6: =IF('Datos de la Escuela'!B5="","",'Datos de la Escuela'!B5) -> B | I6: =SUM(C6:H6) -> 0 | J6: =IF(I6=0,"SIN EVIDENCIAS",IF(I6<=9,"REQUIERE APOYO PARA EL APRENDIZAJE",IF(I6<=14,"EN PROCESO DE DESARROLLO","APRENDIZAJE DESARROLLADO"))) -> SIN EVIDENCIAS
A7: 3 | B7: =IF('Datos de la Escuela'!B6="","",'Datos de la Escuela'!B6) -> C | I7: =SUM(C7:H7) -> 0 | J7: =IF(I7=0,"SIN EVIDENCIAS",IF(I7<=9,"REQUIERE APOYO PARA EL APRENDIZAJE",IF(I7<=14,"EN PROCESO DE DESARROLLO","APRENDIZAJE DESARROLLADO"))) -> SIN EVIDENCIAS
A8: 4 | B8: =IF('Datos de la Escuela'!B7="","",'Datos de la Escuela'!B7) -> D | I8: =SUM(C8:H8) -> 0 | J8: =IF(I8=0,"SIN EVIDENCIAS",IF(I8<=9,"REQUIERE APOYO PARA EL APRENDIZAJE",IF(I8<=14,"EN PROCESO DE DESARROLLO","APRENDIZAJE DESARROLLADO"))) -> SIN EVIDENCIAS
A9: 5 | B9: =IF('Datos de la Escuela'!B8="","",'Datos de la Escuela'!B8) -> E | I9: =SUM(C9:H9) -> 0 | J9: =IF(I9=0,"SIN EVIDENCIAS",IF(I9<=9,"REQUIERE APOYO PARA EL APRENDIZAJE",IF(I9<=14,"EN PROCESO DE DESARROLLO","APRENDIZAJE DESARROLLADO"))) -> SIN EVIDENCIAS
A10: 6 | B10: =IF('Datos de la Escuela'!B9="","",'Datos de la Escuela'!B9) -> A | I10: =SUM(C10:H10) -> 0 | J10: =IF(I10=0,"SIN EVIDENCIAS",IF(I10<=9,"REQUIERE APOYO PARA EL APRENDIZAJE",IF(I10<=14,"EN PROCESO DE DESARROLLO","APRENDIZAJE DESARROLLADO"))) -> SIN EVIDENCIAS
A11: 7 | B11: =IF('Datos de la Escuela'!B10="","",'Datos de la Escuela'!B10) -> A | I11: =SUM(C11:H11) -> 0 | J11: =IF(I11=0,"SIN EVIDENCIAS",IF(I11<=9,"REQUIERE APOYO PARA EL APRENDIZAJE",IF(I11<=14,"EN PROCESO DE DESARROLLO","APRENDIZAJE DESARROLLADO"))) -> SIN EVIDENCIAS
A12: 8 | B12: =IF('Datos de la Escuela'!B11="","",'Datos de la Escuela'!B11) -> A | I12: =SUM(C12:H12) -> 0 | J12: =IF(I12=0,"SIN EVIDENCIAS",IF(I12<=9,"REQUIERE APOYO PARA EL APRENDIZAJE",IF(I12<=14,"EN PROCESO DE DESARROLLO","APRENDIZAJE DESARROLLADO"))) -> SIN EVIDENCIAS
A13: 9 | B13: =IF('Datos de la Escuela'!B12="","",'Datos de la Escuela'!B12) -> A | I13: =SUM(C13:H13) -> 0 | J13: =IF(I13=0,"SIN EVIDENCIAS",IF(I13<=9,"REQUIERE APOYO PARA EL APRENDIZAJE",IF(I13<=14,"EN PROCESO DE DESARROLLO","APRENDIZAJE DESARROLLADO"))) -> SIN EVIDENCIAS
A14: 10 | B14: =IF('Datos de la Escuela'!B13="","",'Datos de la Escuela'!B13) -> A | I14: =SUM(C14:H14) -> 0 | J14: =IF(I14=0,"SIN EVIDENCIAS",IF(I14<=9,"REQUIERE APOYO PARA EL APRENDIZAJE",IF(I14<=14,"EN PROCESO DE DESARROLLO","APRENDIZAJE DESARROLLADO"))) -> SIN EVIDENCIAS
A15: 11 | B15: =IF('Datos de la Escuela'!B14="","",'Datos de la Escuela'!B14) -> A | I15: =SUM(C15:H15) -> 0 | J15: =IF(I15=0,"SIN EVIDENCIAS",IF(I15<=9,"REQUIERE APOYO PARA EL APRENDIZAJE",IF(I15<=14,"EN PROCESO DE DESARROLLO","APRENDIZAJE DESARROLLADO"))) -> SIN EVIDENCIAS
A16: 12 | B16: =IF('Datos de la Escuela'!B15="","",'Datos de la Escuela'!B15) -> A | I16: =SUM(C16:H16) -> 0 | J16: =IF(I16=0,"SIN EVIDENCIAS",IF(I16<=9,"REQUIERE APOYO PARA EL APRENDIZAJE",IF(I16<=14,"EN PROCESO DE DESARROLLO","APRENDIZAJE DESARROLLADO"))) -> SIN EVIDENCIAS
... A39: 35 | B39: =IF('Datos de la Escuela'!B38="","",'Datos de la Escuela'!B38) -> A | I39: =SUM(C39:H39) -> 0 | J39: =IF(I39=0,"SIN EVIDENCIAS",IF(I39<=9,"REQUIERE APOYO PARA EL APRENDIZAJE",IF(I39<=14,"EN PROCESO DE DESARROLLO","APRENDIZAJE DESARROLLADO"))) -> SIN EVIDENCIAS

Sheet SisAT Calculo
A2: TABLA DE RESULTADOS "CALCULO MENTAL" POR GRUPO
A3: COLOQUE UN "1" , "1v" o "0" (cero es numérico)
A4: N.P | B4: ALUMNO (A) | C4: 1 | D4: 2 | E4: 3 | F4: 4 | G4: 5 | H4: 6 | I4: 7 | J4: 8 | K4: 9 | L4: 10 | M4: PUNTOS | N4: NIVEL
A5: 1 | B5: =IF('Datos de la Escuela'!B4="","",'Datos de la Escuela'!B4) -> A | M5: =COUNTIF(C5:L5, 1) + COUNTIF(C5:L5, "1v") + COUNTIF(C5:L5, "1V") -> 0 | N5: =IF(M5=0,"SIN EVIDENCIAS",IF(M5<=4,"REQUIERE APOYO PARA EL APRENDIZAJE",IF(M5<=7,"EN PROCESO DE DESARROLLO","APRENDIZAJE DESARROLLADO"))) -> SIN EVIDENCIAS
A6: 2 | B6: =IF('Datos de la Escuela'!B5="","",'Datos de la Escuela'!B5) -> B | M6: =COUNTIF(C6:L6, 1) + COUNTIF(C6:L6, "1v") + COUNTIF(C6:L6, "1V") -> 0 | N6: =IF(M6=0,"SIN EVIDENCIAS",IF(M6<=4,"REQUIERE APOYO PARA EL APRENDIZAJE",IF(M6<=7,"EN PROCESO DE DESARROLLO","APRENDIZAJE DESARROLLADO"))) -> SIN EVIDENCIAS
A7: 3 | B7: =IF('Datos de la Escuela'!B6="","",'Datos de la Escuela'!B6) -> C | M7: =COUNTIF(C7:L7, 1) + COUNTIF(C7:L7, "1v") + COUNTIF(C7:L7, "1V") -> 0 | N7: =IF(M7=0,"SIN EVIDENCIAS",IF(M7<=4,"REQUIERE APOYO PARA EL APRENDIZAJE",IF(M7<=7,"EN PROCESO DE DESARROLLO","APRENDIZAJE DESARROLLADO"))) -> SIN EVIDENCIAS
A8: 4 | B8: =IF('Datos de la Escuela'!B7="","",'Datos de la Escuela'!B7) -> D | M8: =COUNTIF(C8:L8, 1) + COUNTIF(C8:L8, "1v") + COUNTIF(C8:L8, "1V") -> 0 | N8: =IF(M8=0,"SIN EVIDENCIAS",IF(M8<=4,"REQUIERE APOYO PARA EL APRENDIZAJE",IF(M8<=7,"EN PROCESO DE DESARROLLO","APRENDIZAJE DESARROLLADO"))) -> SIN EVIDENCIAS
A9: 5 | B9: =IF('Datos de la Escuela'!B8="","",'Datos de la Escuela'!B8) -> E | M9: =COUNTIF(C9:L9, 1) + COUNTIF(C9:L9, "1v") + COUNTIF(C9:L9, "1V") -> 0 | N9: =IF(M9=0,"SIN EVIDENCIAS",IF(M9<=4,"REQUIERE APOYO PARA EL APRENDIZAJE",IF(M9<=7,"EN PROCESO DE DESARROLLO","APRENDIZAJE DESARROLLADO"))) -> SIN EVIDENCIAS
A10: 6 | B10: =IF('Datos de la Escuela'!B9="","",'Datos de la Escuela'!B9) -> A | M10: =COUNTIF(C10:L10, 1) + COUNTIF(C10:L10, "1v") + COUNTIF(C10:L10, "1V") -> 0 | N10: =IF(M10=0,"SIN EVIDENCIAS",IF(M10<=4,"REQUIERE APOYO PARA EL APRENDIZAJE",IF(M10<=7,"EN PROCESO DE DESARROLLO","APRENDIZAJE DESARROLLADO"))) -> SIN EVIDENCIAS
A11: 7 | B11: =IF('Datos de la Escuela'!B10="","",'Datos de la Escuela'!B10) -> A | M11: =COUNTIF(C11:L11, 1) + COUNTIF(C11:L11, "1v") + COUNTIF(C11:L11, "1V") -> 0 | N11: =IF(M11=0,"SIN EVIDENCIAS",IF(M11<=4,"REQUIERE APOYO PARA EL APRENDIZAJE",IF(M11<=7,"EN PROCESO DE DESARROLLO","APRENDIZAJE DESARROLLADO"))) -> SIN EVIDENCIAS
A12: 8 | B12: =IF('Datos de la Escuela'!B11="","",'Datos de la Escuela'!B11) -> A | M12: =COUNTIF(C12:L12, 1) + COUNTIF(C12:L12, "1v") + COUNTIF(C12:L12, "1V") -> 0 | N12: =IF(M12=0,"SIN EVIDENCIAS",IF(M12<=4,"REQUIERE APOYO PARA EL APRENDIZAJE",IF(M12<=7,"EN PROCESO DE DESARROLLO","APRENDIZAJE DESARROLLADO"))) -> SIN EVIDENCIAS
A13: 9 | B13: =IF('Datos de la Escuela'!B12="","",'Datos de la Escuela'!B12) -> A | M13: =COUNTIF(C13:L13, 1) + COUNTIF(C13:L13, "1v") + COUNTIF(C13:L13, "1V") -> 0 | N13: =IF(M13=0,"SIN EVIDENCIAS",IF(M13<=4,"REQUIERE APOYO PARA EL APRENDIZAJE",IF(M13<=7,"EN PROCESO DE DESARROLLO","APRENDIZAJE DESARROLLADO"))) -> SIN EVIDENCIAS
A14: 10 | B14: =IF('Datos de la Escuela'!B13="","",'Datos de la Escuela'!B13) -> A | M14: =COUNTIF(C14:L14, 1) + COUNTIF(C14:L14, "1v") + COUNTIF(C14:L14, "1V") -> 0 | N14: =IF(M14=0,"SIN EVIDENCIAS",IF(M14<=4,"REQUIERE APOYO PARA EL APRENDIZAJE",IF(M14<=7,"EN PROCESO DE DESARROLLO","APRENDIZAJE DESARROLLADO"))) -> SIN EVIDENCIAS
A15: 11 | B15: =IF('Datos de la Escuela'!B14="","",'Datos de la Escuela'!B14) -> A | M15: =COUNTIF(C15:L15, 1) + COUNTIF(C15:L15, "1v") + COUNTIF(C15:L15, "1V") -> 0 | N15: =IF(M15=0,"SIN EVIDENCIAS",IF(M15<=4,"REQUIERE APOYO PARA EL APRENDIZAJE",IF(M15<=7,"EN PROCESO DE DESARROLLO","APRENDIZAJE DESARROLLADO"))) -> SIN EVIDENCIAS
A16: 12 | B16: =IF('Datos de la Escuela'!B15="","",'Datos de la Escuela'!B15) -> A | M16: =COUNTIF(C16:L16, 1) + COUNTIF(C16:L16, "1v") + COUNTIF(C16:L16, "1V") -> 0 | N16: =IF(M16=0,"SIN EVIDENCIAS",IF(M16<=4,"REQUIERE APOYO PARA EL APRENDIZAJE",IF(M16<=7,"EN PROCESO DE DESARROLLO","APRENDIZAJE DESARROLLADO"))) -> SIN EVIDENCIAS
... A39: 35 | B39: =IF('Datos de la Escuela'!B38="","",'Datos de la Escuela'!B38) -> A | M39: =COUNTIF(C39:L39, 1) + COUNTIF(C39:L39, "1v") + COUNTIF(C39:L39, "1V") -> 0 | N39: =IF(M39=0,"SIN EVIDENCIAS",IF(M39<=4,"REQUIERE APOYO PARA EL APRENDIZAJE",IF(M39<=7,"EN PROCESO DE DESARROLLO","APRENDIZAJE DESARROLLADO"))) -> SIN EVIDENCIAS
