Workbook

Sheet Resumen Anual
A1: Lista de asistencia - Ciclo Escolar 2026-2027
A2: Instrucciones: Escribe los nombres de los alumnos en esta hoja. Automáticamente se actualizarán en los meses. Los totales se suman de todas las pestañas.
A3: No. | B3: Nombre del Alumno | C3: Total Asistencias | D3: Total Faltas | E3: Total Retardos | F3: Total Justificadas
A4: 1 | B4: Nombre del Alumno | C4: =Agosto!AH5+Septiembre!AG5+Octubre!AH5+Noviembre!AG5+Diciembre!AH5+Enero!AH5+Febrero!AE5+Marzo!AH5+Abril!AG5+Mayo!AH5+Junio!AG5+Julio!AH5 -> 0 | D4: =Agosto!AI5+Septiembre!AH5+Octubre!AI5+Noviembre!AH5+Diciembre!AI5+Enero!AI5+Febrero!AF5+Marzo!AI5+Abril!AH5+Mayo!AI5+Junio!AH5+Julio!AI5 -> 0 | E4: =Agosto!AJ5+Septiembre!AI5+Octubre!AJ5+Noviembre!AI5+Diciembre!AJ5+Enero!AJ5+Febrero!AG5+Marzo!AJ5+Abril!AI5+Mayo!AJ5+Junio!AI5+Julio!AJ5 -> 0 | F4: =Agosto!AK5+Septiembre!AJ5+Octubre!AK5+Noviembre!AJ5+Diciembre!AK5+Enero!AK5+Febrero!AH5+Marzo!AK5+Abril!AJ5+Mayo!AK5+Junio!AJ5+Julio!AK5 -> 0
A5: 2 | B5: Nombre del Alumno | C5: =Agosto!AH6+Septiembre!AG6+Octubre!AH6+Noviembre!AG6+Diciembre!AH6+Enero!AH6+Febrero!AE6+Marzo!AH6+Abril!AG6+Mayo!AH6+Junio!AG6+Julio!AH6 -> 0 | D5: =Agosto!AI6+Septiembre!AH6+Octubre!AI6+Noviembre!AH6+Diciembre!AI6+Enero!AI6+Febrero!AF6+Marzo!AI6+Abril!AH6+Mayo!AI6+Junio!AH6+Julio!AI6 -> 0 | E5: =Agosto!AJ6+Septiembre!AI6+Octubre!AJ6+Noviembre!AI6+Diciembre!AJ6+Enero!AJ6+Febrero!AG6+Marzo!AJ6+Abril!AI6+Mayo!AJ6+Junio!AI6+Julio!AJ6 -> 0 | F5: =Agosto!AK6+Septiembre!AJ6+Octubre!AK6+Noviembre!AJ6+Diciembre!AK6+Enero!AK6+Febrero!AH6+Marzo!AK6+Abril!AJ6+Mayo!AK6+Junio!AJ6+Julio!AK6 -> 0
A6: 3 | B6: Nombre del Alumno | C6: =Agosto!AH7+Septiembre!AG7+Octubre!AH7+Noviembre!AG7+Diciembre!AH7+Enero!AH7+Febrero!AE7+Marzo!AH7+Abril!AG7+Mayo!AH7+Junio!AG7+Julio!AH7 -> 0 | D6: =Agosto!AI7+Septiembre!AH7+Octubre!AI7+Noviembre!AH7+Diciembre!AI7+Enero!AI7+Febrero!AF7+Marzo!AI7+Abril!AH7+Mayo!AI7+Junio!AH7+Julio!AI7 -> 0 | E6: =Agosto!AJ7+Septiembre!AI7+Octubre!AJ7+Noviembre!AI7+Diciembre!AJ7+Enero!AJ7+Febrero!AG7+Marzo!AJ7+Abril!AI7+Mayo!AJ7+Junio!AI7+Julio!AJ7 -> 0 | F6: =Agosto!AK7+Septiembre!AJ7+Octubre!AK7+Noviembre!AJ7+Diciembre!AK7+Enero!AK7+Febrero!AH7+Marzo!AK7+Abril!AJ7+Mayo!AK7+Junio!AJ7+Julio!AK7 -> 0
A7: 4 | B7: Nombre del Alumno | C7: =Agosto!AH8+Septiembre!AG8+Octubre!AH8+Noviembre!AG8+Diciembre!AH8+Enero!AH8+Febrero!AE8+Marzo!AH8+Abril!AG8+Mayo!AH8+Junio!AG8+Julio!AH8 -> 0 | D7: =Agosto!AI8+Septiembre!AH8+Octubre!AI8+Noviembre!AH8+Diciembre!AI8+Enero!AI8+Febrero!AF8+Marzo!AI8+Abril!AH8+Mayo!AI8+Junio!AH8+Julio!AI8 -> 0 | E7: =Agosto!AJ8+Septiembre!AI8+Octubre!AJ8+Noviembre!AI8+Diciembre!AJ8+Enero!AJ8+Febrero!AG8+Marzo!AJ8+Abril!AI8+Mayo!AJ8+Junio!AI8+Julio!AJ8 -> 0 | F7: =Agosto!AK8+Septiembre!AJ8+Octubre!AK8+Noviembre!AJ8+Diciembre!AK8+Enero!AK8+Febrero!AH8+Marzo!AK8+Abril!AJ8+Mayo!AK8+Junio!AJ8+Julio!AK8 -> 0
A8: 5 | B8: Nombre del Alumno | C8: =Agosto!AH9+Septiembre!AG9+Octubre!AH9+Noviembre!AG9+Diciembre!AH9+Enero!AH9+Febrero!AE9+Marzo!AH9+Abril!AG9+Mayo!AH9+Junio!AG9+Julio!AH9 -> 0 | D8: =Agosto!AI9+Septiembre!AH9+Octubre!AI9+Noviembre!AH9+Diciembre!AI9+Enero!AI9+Febrero!AF9+Marzo!AI9+Abril!AH9+Mayo!AI9+Junio!AH9+Julio!AI9 -> 0 | E8: =Agosto!AJ9+Septiembre!AI9+Octubre!AJ9+Noviembre!AI9+Diciembre!AJ9+Enero!AJ9+Febrero!AG9+Marzo!AJ9+Abril!AI9+Mayo!AJ9+Junio!AI9+Julio!AJ9 -> 0 | F8: =Agosto!AK9+Septiembre!AJ9+Octubre!AK9+Noviembre!AJ9+Diciembre!AK9+Enero!AK9+Febrero!AH9+Marzo!AK9+Abril!AJ9+Mayo!AK9+Junio!AJ9+Julio!AK9 -> 0
A9: 6 | B9: Nombre del Alumno | C9: =Agosto!AH10+Septiembre!AG10+Octubre!AH10+Noviembre!AG10+Diciembre!AH10+Enero!AH10+Febrero!AE10+Marzo!AH10+Abril!AG10+Mayo!AH10+Junio!AG10+Julio!AH10 -> 0 | D9: =Agosto!AI10+Septiembre!AH10+Octubre!AI10+Noviembre!AH10+Diciembre!AI10+Enero!AI10+Febrero!AF10+Marzo!AI10+Abril!AH10+Mayo!AI10+Junio!AH10+Julio!AI10 -> 0 | E9: =Agosto!AJ10+Septiembre!AI10+Octubre!AJ10+Noviembre!AI10+Diciembre!AJ10+Enero!AJ10+Febrero!AG10+Marzo!AJ10+Abril!AI10+Mayo!AJ10+Junio!AI10+Julio!AJ10 -> 0 | F9: =Agosto!AK10+Septiembre!AJ10+Octubre!AK10+Noviembre!AJ10+Diciembre!AK10+Enero!AK10+Febrero!AH10+Marzo!AK10+Abril!AJ10+Mayo!AK10+Junio!AJ10+Julio!AK10 -> 0
A10: 7 | B10: Nombre del Alumno | C10: =Agosto!AH11+Septiembre!AG11+Octubre!AH11+Noviembre!AG11+Diciembre!AH11+Enero!AH11+Febrero!AE11+Marzo!AH11+Abril!AG11+Mayo!AH11+Junio!AG11+Julio!AH11 -> 0 | D10: =Agosto!AI11+Septiembre!AH11+Octubre!AI11+Noviembre!AH11+Diciembre!AI11+Enero!AI11+Febrero!AF11+Marzo!AI11+Abril!AH11+Mayo!AI11+Junio!AH11+Julio!AI11 -> 0 | E10: =Agosto!AJ11+Septiembre!AI11+Octubre!AJ11+Noviembre!AI11+Diciembre!AJ11+Enero!AJ11+Febrero!AG11+Marzo!AJ11+Abril!AI11+Mayo!AJ11+Junio!AI11+Julio!AJ11 -> 0 | F10: =Agosto!AK11+Septiembre!AJ11+Octubre!AK11+Noviembre!AJ11+Diciembre!AK11+Enero!AK11+Febrero!AH11+Marzo!AK11+Abril!AJ11+Mayo!AK11+Junio!AJ11+Julio!AK11 -> 0
A11: 8 | B11: Nombre del Alumno | C11: =Agosto!AH12+Septiembre!AG12+Octubre!AH12+Noviembre!AG12+Diciembre!AH12+Enero!AH12+Febrero!AE12+Marzo!AH12+Abril!AG12+Mayo!AH12+Junio!AG12+Julio!AH12 -> 0 | D11: =Agosto!AI12+Septiembre!AH12+Octubre!AI12+Noviembre!AH12+Diciembre!AI12+Enero!AI12+Febrero!AF12+Marzo!AI12+Abril!AH12+Mayo!AI12+Junio!AH12+Julio!AI12 -> 0 | E11: =Agosto!AJ12+Septiembre!AI12+Octubre!AJ12+Noviembre!AI12+Diciembre!AJ12+Enero!AJ12+Febrero!AG12+Marzo!AJ12+Abril!AI12+Mayo!AJ12+Junio!AI12+Julio!AJ12 -> 0 | F11: =Agosto!AK12+Septiembre!AJ12+Octubre!AK12+Noviembre!AJ12+Diciembre!AK12+Enero!AK12+Febrero!AH12+Marzo!AK12+Abril!AJ12+Mayo!AK12+Junio!AJ12+Julio!AK12 -> 0
A12: 9 | B12: Nombre del Alumno | C12: =Agosto!AH13+Septiembre!AG13+Octubre!AH13+Noviembre!AG13+Diciembre!AH13+Enero!AH13+Febrero!AE13+Marzo!AH13+Abril!AG13+Mayo!AH13+Junio!AG13+Julio!AH13 -> 0 | D12: =Agosto!AI13+Septiembre!AH13+Octubre!AI13+Noviembre!AH13+Diciembre!AI13+Enero!AI13+Febrero!AF13+Marzo!AI13+Abril!AH13+Mayo!AI13+Junio!AH13+Julio!AI13 -> 0 | E12: =Agosto!AJ13+Septiembre!AI13+Octubre!AJ13+Noviembre!AI13+Diciembre!AJ13+Enero!AJ13+Febrero!AG13+Marzo!AJ13+Abril!AI13+Mayo!AJ13+Junio!AI13+Julio!AJ13 -> 0 | F12: =Agosto!AK13+Septiembre!AJ13+Octubre!AK13+Noviembre!AJ13+Diciembre!AK13+Enero!AK13+Febrero!AH13+Marzo!AK13+Abril!AJ13+Mayo!AK13+Junio!AJ13+Julio!AK13 -> 0
A13: 10 | B13: Nombre del Alumno | C13: =Agosto!AH14+Septiembre!AG14+Octubre!AH14+Noviembre!AG14+Diciembre!AH14+Enero!AH14+Febrero!AE14+Marzo!AH14+Abril!AG14+Mayo!AH14+Junio!AG14+Julio!AH14 -> 0 | D13: =Agosto!AI14+Septiembre!AH14+Octubre!AI14+Noviembre!AH14+Diciembre!AI14+Enero!AI14+Febrero!AF14+Marzo!AI14+Abril!AH14+Mayo!AI14+Junio!AH14+Julio!AI14 -> 0 | E13: =Agosto!AJ14+Septiembre!AI14+Octubre!AJ14+Noviembre!AI14+Diciembre!AJ14+Enero!AJ14+Febrero!AG14+Marzo!AJ14+Abril!AI14+Mayo!AJ14+Junio!AI14+Julio!AJ14 -> 0 | F13: =Agosto!AK14+Septiembre!AJ14+Octubre!AK14+Noviembre!AJ14+Diciembre!AK14+Enero!AK14+Febrero!AH14+Marzo!AK14+Abril!AJ14+Mayo!AK14+Junio!AJ14+Julio!AK14 -> 0
A14: 11 | B14: Nombre del Alumno | C14: =Agosto!AH15+Septiembre!AG15+Octubre!AH15+Noviembre!AG15+Diciembre!AH15+Enero!AH15+Febrero!AE15+Marzo!AH15+Abril!AG15+Mayo!AH15+Junio!AG15+Julio!AH15 -> 0 | D14: =Agosto!AI15+Septiembre!AH15+Octubre!AI15+Noviembre!AH15+Diciembre!AI15+Enero!AI15+Febrero!AF15+Marzo!AI15+Abril!AH15+Mayo!AI15+Junio!AH15+Julio!AI15 -> 0 | E14: =Agosto!AJ15+Septiembre!AI15+Octubre!AJ15+Noviembre!AI15+Diciembre!AJ15+Enero!AJ15+Febrero!AG15+Marzo!AJ15+Abril!AI15+Mayo!AJ15+Junio!AI15+Julio!AJ15 -> 0 | F14: =Agosto!AK15+Septiembre!AJ15+Octubre!AK15+Noviembre!AJ15+Diciembre!AK15+Enero!AK15+Febrero!AH15+Marzo!AK15+Abril!AJ15+Mayo!AK15+Junio!AJ15+Julio!AK15 -> 0
A15: 12 | B15: Nombre del Alumno | C15: =Agosto!AH16+Septiembre!AG16+Octubre!AH16+Noviembre!AG16+Diciembre!AH16+Enero!AH16+Febrero!AE16+Marzo!AH16+Abril!AG16+Mayo!AH16+Junio!AG16+Julio!AH16 -> 0 | D15: =Agosto!AI16+Septiembre!AH16+Octubre!AI16+Noviembre!AH16+Diciembre!AI16+Enero!AI16+Febrero!AF16+Marzo!AI16+Abril!AH16+Mayo!AI16+Junio!AH16+Julio!AI16 -> 0 | E15: =Agosto!AJ16+Septiembre!AI16+Octubre!AJ16+Noviembre!AI16+Diciembre!AJ16+Enero!AJ16+Febrero!AG16+Marzo!AJ16+Abril!AI16+Mayo!AJ16+Junio!AI16+Julio!AJ16 -> 0 | F15: =Agosto!AK16+Septiembre!AJ16+Octubre!AK16+Noviembre!AJ16+Diciembre!AK16+Enero!AK16+Febrero!AH16+Marzo!AK16+Abril!AJ16+Mayo!AK16+Junio!AJ16+Julio!AK16 -> 0
... A38: 35 | B38: Nombre del Alumno 35 | C38: =Agosto!AH39+Septiembre!AG39+Octubre!AH39+Noviembre!AG39+Diciembre!AH39+Enero!AH39+Febrero!AE39+Marzo!AH39+Abril!AG39+Mayo!AH39+Junio!AG39+Julio!AH39 -> 0 | D38: =Agosto!AI39+Septiembre!AH39+Octubre!AI39+Noviembre!AH39+Diciembre!AI39+Enero!AI39+Febrero!AF39+Marzo!AI39+Abril!AH39+Mayo!AI39+Junio!AH39+Julio!AI39 -> 0 | E38: =Agosto!AJ39+Septiembre!AI39+Octubre!AJ39+Noviembre!AI39+Diciembre!AJ39+Enero!AJ39+Febrero!AG39+Marzo!AJ39+Abril!AI39+Mayo!AJ39+Junio!AI39+Julio!AJ39 -> 0 | F38: =Agosto!AK39+Septiembre!AJ39+Octubre!AK39+Noviembre!AJ39+Diciembre!AK39+Enero!AK39+Febrero!AH39+Marzo!AK39+Abril!AJ39+Mayo!AK39+Junio!AJ39+Julio!AK39 -> 0

Sheet Agosto
A1: Lista de Asistencia - Agosto 2026
A2: Claves de Lista: | B2: A = Asistencia | D2: F = Falta | F2: R = Retardo | H2: J = Justificada
A4: No. | B4: Nombre del Alumno | C4: 1 | D4: 2 | E4: 3 | F4: 4 | G4: 5 | H4: 6 | I4: 7 | J4: 8 | K4: 9 | L4: 10 | M4: 11 | N4: 12 | O4: 13 | P4: 14 | Q4: 15 | R4: 16 | S4: 17 | T4: 18 | U4: 19 | V4: 20 | W4: 21 | X4: 22 | Y4: 23 | Z4: 24 | AA4: 25 | AB4: 26 | AC4: 27 | AD4: 28 | AE4: 29 | AF4: 30 | AG4: 31 | AH4: Asistencias (A) | AI4: Faltas (F) | AJ4: Retardos (R) | AK4: Justificadas (J)
A5: 1 | B5: ='Resumen Anual'!B4 -> Nombre del Alumno | AH5: =COUNTIF(C5:AG5, "A") -> 0 | AI5: =COUNTIF(C5:AG5, "F") -> 0 | AJ5: =COUNTIF(C5:AG5, "R") -> 0 | AK5: =COUNTIF(C5:AG5, "J") -> 0
A6: 2 | B6: ='Resumen Anual'!B5 -> Nombre del Alumno | AH6: =COUNTIF(C6:AG6, "A") -> 0 | AI6: =COUNTIF(C6:AG6, "F") -> 0 | AJ6: =COUNTIF(C6:AG6, "R") -> 0 | AK6: =COUNTIF(C6:AG6, "J") -> 0
A7: 3 | B7: ='Resumen Anual'!B6 -> Nombre del Alumno | AH7: =COUNTIF(C7:AG7, "A") -> 0 | AI7: =COUNTIF(C7:AG7, "F") -> 0 | AJ7: =COUNTIF(C7:AG7, "R") -> 0 | AK7: =COUNTIF(C7:AG7, "J") -> 0
A8: 4 | B8: ='Resumen Anual'!B7 -> Nombre del Alumno | AH8: =COUNTIF(C8:AG8, "A") -> 0 | AI8: =COUNTIF(C8:AG8, "F") -> 0 | AJ8: =COUNTIF(C8:AG8, "R") -> 0 | AK8: =COUNTIF(C8:AG8, "J") -> 0
A9: 5 | B9: ='Resumen Anual'!B8 -> Nombre del Alumno | AH9: =COUNTIF(C9:AG9, "A") -> 0 | AI9: =COUNTIF(C9:AG9, "F") -> 0 | AJ9: =COUNTIF(C9:AG9, "R") -> 0 | AK9: =COUNTIF(C9:AG9, "J") -> 0
A10: 6 | B10: ='Resumen Anual'!B9 -> Nombre del Alumno | AH10: =COUNTIF(C10:AG10, "A") -> 0 | AI10: =COUNTIF(C10:AG10, "F") -> 0 | AJ10: =COUNTIF(C10:AG10, "R") -> 0 | AK10: =COUNTIF(C10:AG10, "J") -> 0
A11: 7 | B11: ='Resumen Anual'!B10 -> Nombre del Alumno | AH11: =COUNTIF(C11:AG11, "A") -> 0 | AI11: =COUNTIF(C11:AG11, "F") -> 0 | AJ11: =COUNTIF(C11:AG11, "R") -> 0 | AK11: =COUNTIF(C11:AG11, "J") -> 0
A12: 8 | B12: ='Resumen Anual'!B11 -> Nombre del Alumno | AH12: =COUNTIF(C12:AG12, "A") -> 0 | AI12: =COUNTIF(C12:AG12, "F") -> 0 | AJ12: =COUNTIF(C12:AG12, "R") -> 0 | AK12: =COUNTIF(C12:AG12, "J") -> 0
A13: 9 | B13: ='Resumen Anual'!B12 -> Nombre del Alumno | AH13: =COUNTIF(C13:AG13, "A") -> 0 | AI13: =COUNTIF(C13:AG13, "F") -> 0 | AJ13: =COUNTIF(C13:AG13, "R") -> 0 | AK13: =COUNTIF(C13:AG13, "J") -> 0
A14: 10 | B14: ='Resumen Anual'!B13 -> Nombre del Alumno | AH14: =COUNTIF(C14:AG14, "A") -> 0 | AI14: =COUNTIF(C14:AG14, "F") -> 0 | AJ14: =COUNTIF(C14:AG14, "R") -> 0 | AK14: =COUNTIF(C14:AG14, "J") -> 0
A15: 11 | B15: ='Resumen Anual'!B14 -> Nombre del Alumno | AH15: =COUNTIF(C15:AG15, "A") -> 0 | AI15: =COUNTIF(C15:AG15, "F") -> 0 | AJ15: =COUNTIF(C15:AG15, "R") -> 0 | AK15: =COUNTIF(C15:AG15, "J") -> 0
A16: 12 | B16: ='Resumen Anual'!B15 -> Nombre del Alumno | AH16: =COUNTIF(C16:AG16, "A") -> 0 | AI16: =COUNTIF(C16:AG16, "F") -> 0 | AJ16: =COUNTIF(C16:AG16, "R") -> 0 | AK16: =COUNTIF(C16:AG16, "J") -> 0
... A39: 35 | B39: ='Resumen Anual'!B38 -> Nombre del Alumno 35 | AH39: =COUNTIF(C39:AG39, "A") -> 0 | AI39: =COUNTIF(C39:AG39, "F") -> 0 | AJ39: =COUNTIF(C39:AG39, "R") -> 0 | AK39: =COUNTIF(C39:AG39, "J") -> 0

Sheet Septiembre
A1: Lista de Asistencia - Septiembre 2026
A2: Claves de Lista: | B2: A = Asistencia | D2: F = Falta | F2: R = Retardo | H2: J = Justificada
A4: No. | B4: Nombre del Alumno | C4: 1 | D4: 2 | E4: 3 | F4: 4 | G4: 5 | H4: 6 | I4: 7 | J4: 8 | K4: 9 | L4: 10 | M4: 11 | N4: 12 | O4: 13 | P4: 14 | Q4: 15 | R4: 16 | S4: 17 | T4: 18 | U4: 19 | V4: 20 | W4: 21 | X4: 22 | Y4: 23 | Z4: 24 | AA4: 25 | AB4: 26 | AC4: 27 | AD4: 28 | AE4: 29 | AF4: 30 | AG4: Asistencias (A) | AH4: Faltas (F) | AI4: Retardos (R) | AJ4: Justificadas (J)
A5: 1 | B5: ='Resumen Anual'!B4 -> Nombre del Alumno | AG5: =COUNTIF(C5:AF5, "A") -> 0 | AH5: =COUNTIF(C5:AF5, "F") -> 0 | AI5: =COUNTIF(C5:AF5, "R") -> 0 | AJ5: =COUNTIF(C5:AF5, "J") -> 0
A6: 2 | B6: ='Resumen Anual'!B5 -> Nombre del Alumno | AG6: =COUNTIF(C6:AF6, "A") -> 0 | AH6: =COUNTIF(C6:AF6, "F") -> 0 | AI6: =COUNTIF(C6:AF6, "R") -> 0 | AJ6: =COUNTIF(C6:AF6, "J") -> 0
A7: 3 | B7: ='Resumen Anual'!B6 -> Nombre del Alumno | AG7: =COUNTIF(C7:AF7, "A") -> 0 | AH7: =COUNTIF(C7:AF7, "F") -> 0 | AI7: =COUNTIF(C7:AF7, "R") -> 0 | AJ7: =COUNTIF(C7:AF7, "J") -> 0
A8: 4 | B8: ='Resumen Anual'!B7 -> Nombre del Alumno | AG8: =COUNTIF(C8:AF8, "A") -> 0 | AH8: =COUNTIF(C8:AF8, "F") -> 0 | AI8: =COUNTIF(C8:AF8, "R") -> 0 | AJ8: =COUNTIF(C8:AF8, "J") -> 0
A9: 5 | B9: ='Resumen Anual'!B8 -> Nombre del Alumno | AG9: =COUNTIF(C9:AF9, "A") -> 0 | AH9: =COUNTIF(C9:AF9, "F") -> 0 | AI9: =COUNTIF(C9:AF9, "R") -> 0 | AJ9: =COUNTIF(C9:AF9, "J") -> 0
A10: 6 | B10: ='Resumen Anual'!B9 -> Nombre del Alumno | AG10: =COUNTIF(C10:AF10, "A") -> 0 | AH10: =COUNTIF(C10:AF10, "F") -> 0 | AI10: =COUNTIF(C10:AF10, "R") -> 0 | AJ10: =COUNTIF(C10:AF10, "J") -> 0
A11: 7 | B11: ='Resumen Anual'!B10 -> Nombre del Alumno | AG11: =COUNTIF(C11:AF11, "A") -> 0 | AH11: =COUNTIF(C11:AF11, "F") -> 0 | AI11: =COUNTIF(C11:AF11, "R") -> 0 | AJ11: =COUNTIF(C11:AF11, "J") -> 0
A12: 8 | B12: ='Resumen Anual'!B11 -> Nombre del Alumno | AG12: =COUNTIF(C12:AF12, "A") -> 0 | AH12: =COUNTIF(C12:AF12, "F") -> 0 | AI12: =COUNTIF(C12:AF12, "R") -> 0 | AJ12: =COUNTIF(C12:AF12, "J") -> 0
A13: 9 | B13: ='Resumen Anual'!B12 -> Nombre del Alumno | AG13: =COUNTIF(C13:AF13, "A") -> 0 | AH13: =COUNTIF(C13:AF13, "F") -> 0 | AI13: =COUNTIF(C13:AF13, "R") -> 0 | AJ13: =COUNTIF(C13:AF13, "J") -> 0
A14: 10 | B14: ='Resumen Anual'!B13 -> Nombre del Alumno | AG14: =COUNTIF(C14:AF14, "A") -> 0 | AH14: =COUNTIF(C14:AF14, "F") -> 0 | AI14: =COUNTIF(C14:AF14, "R") -> 0 | AJ14: =COUNTIF(C14:AF14, "J") -> 0
A15: 11 | B15: ='Resumen Anual'!B14 -> Nombre del Alumno | AG15: =COUNTIF(C15:AF15, "A") -> 0 | AH15: =COUNTIF(C15:AF15, "F") -> 0 | AI15: =COUNTIF(C15:AF15, "R") -> 0 | AJ15: =COUNTIF(C15:AF15, "J") -> 0
A16: 12 | B16: ='Resumen Anual'!B15 -> Nombre del Alumno | AG16: =COUNTIF(C16:AF16, "A") -> 0 | AH16: =COUNTIF(C16:AF16, "F") -> 0 | AI16: =COUNTIF(C16:AF16, "R") -> 0 | AJ16: =COUNTIF(C16:AF16, "J") -> 0
... A39: 35 | B39: ='Resumen Anual'!B38 -> Nombre del Alumno 35 | AG39: =COUNTIF(C39:AF39, "A") -> 0 | AH39: =COUNTIF(C39:AF39, "F") -> 0 | AI39: =COUNTIF(C39:AF39, "R") -> 0 | AJ39: =COUNTIF(C39:AF39, "J") -> 0

Sheet Octubre
A1: Lista de Asistencia - Octubre 2026
A2: Claves de Lista: | B2: A = Asistencia | D2: F = Falta | F2: R = Retardo | H2: J = Justificada
A4: No. | B4: Nombre del Alumno | C4: 1 | D4: 2 | E4: 3 | F4: 4 | G4: 5 | H4: 6 | I4: 7 | J4: 8 | K4: 9 | L4: 10 | M4: 11 | N4: 12 | O4: 13 | P4: 14 | Q4: 15 | R4: 16 | S4: 17 | T4: 18 | U4: 19 | V4: 20 | W4: 21 | X4: 22 | Y4: 23 | Z4: 24 | AA4: 25 | AB4: 26 | AC4: 27 | AD4: 28 | AE4: 29 | AF4: 30 | AG4: 31 | AH4: Asistencias (A) | AI4: Faltas (F) | AJ4: Retardos (R) | AK4: Justificadas (J)
A5: 1 | B5: ='Resumen Anual'!B4 -> Nombre del Alumno | AH5: =COUNTIF(C5:AG5, "A") -> 0 | AI5: =COUNTIF(C5:AG5, "F") -> 0 | AJ5: =COUNTIF(C5:AG5, "R") -> 0 | AK5: =COUNTIF(C5:AG5, "J") -> 0
A6: 2 | B6: ='Resumen Anual'!B5 -> Nombre del Alumno | AH6: =COUNTIF(C6:AG6, "A") -> 0 | AI6: =COUNTIF(C6:AG6, "F") -> 0 | AJ6: =COUNTIF(C6:AG6, "R") -> 0 | AK6: =COUNTIF(C6:AG6, "J") -> 0
A7: 3 | B7: ='Resumen Anual'!B6 -> Nombre del Alumno | AH7: =COUNTIF(C7:AG7, "A") -> 0 | AI7: =COUNTIF(C7:AG7, "F") -> 0 | AJ7: =COUNTIF(C7:AG7, "R") -> 0 | AK7: =COUNTIF(C7:AG7, "J") -> 0
A8: 4 | B8: ='Resumen Anual'!B7 -> Nombre del Alumno | AH8: =COUNTIF(C8:AG8, "A") -> 0 | AI8: =COUNTIF(C8:AG8, "F") -> 0 | AJ8: =COUNTIF(C8:AG8, "R") -> 0 | AK8: =COUNTIF(C8:AG8, "J") -> 0
A9: 5 | B9: ='Resumen Anual'!B8 -> Nombre del Alumno | AH9: =COUNTIF(C9:AG9, "A") -> 0 | AI9: =COUNTIF(C9:AG9, "F") -> 0 | AJ9: =COUNTIF(C9:AG9, "R") -> 0 | AK9: =COUNTIF(C9:AG9, "J") -> 0
A10: 6 | B10: ='Resumen Anual'!B9 -> Nombre del Alumno | AH10: =COUNTIF(C10:AG10, "A") -> 0 | AI10: =COUNTIF(C10:AG10, "F") -> 0 | AJ10: =COUNTIF(C10:AG10, "R") -> 0 | AK10: =COUNTIF(C10:AG10, "J") -> 0
A11: 7 | B11: ='Resumen Anual'!B10 -> Nombre del Alumno | AH11: =COUNTIF(C11:AG11, "A") -> 0 | AI11: =COUNTIF(C11:AG11, "F") -> 0 | AJ11: =COUNTIF(C11:AG11, "R") -> 0 | AK11: =COUNTIF(C11:AG11, "J") -> 0
A12: 8 | B12: ='Resumen Anual'!B11 -> Nombre del Alumno | AH12: =COUNTIF(C12:AG12, "A") -> 0 | AI12: =COUNTIF(C12:AG12, "F") -> 0 | AJ12: =COUNTIF(C12:AG12, "R") -> 0 | AK12: =COUNTIF(C12:AG12, "J") -> 0
A13: 9 | B13: ='Resumen Anual'!B12 -> Nombre del Alumno | AH13: =COUNTIF(C13:AG13, "A") -> 0 | AI13: =COUNTIF(C13:AG13, "F") -> 0 | AJ13: =COUNTIF(C13:AG13, "R") -> 0 | AK13: =COUNTIF(C13:AG13, "J") -> 0
A14: 10 | B14: ='Resumen Anual'!B13 -> Nombre del Alumno | AH14: =COUNTIF(C14:AG14, "A") -> 0 | AI14: =COUNTIF(C14:AG14, "F") -> 0 | AJ14: =COUNTIF(C14:AG14, "R") -> 0 | AK14: =COUNTIF(C14:AG14, "J") -> 0
A15: 11 | B15: ='Resumen Anual'!B14 -> Nombre del Alumno | AH15: =COUNTIF(C15:AG15, "A") -> 0 | AI15: =COUNTIF(C15:AG15, "F") -> 0 | AJ15: =COUNTIF(C15:AG15, "R") -> 0 | AK15: =COUNTIF(C15:AG15, "J") -> 0
A16: 12 | B16: ='Resumen Anual'!B15 -> Nombre del Alumno | AH16: =COUNTIF(C16:AG16, "A") -> 0 | AI16: =COUNTIF(C16:AG16, "F") -> 0 | AJ16: =COUNTIF(C16:AG16, "R") -> 0 | AK16: =COUNTIF(C16:AG16, "J") -> 0
... A39: 35 | B39: ='Resumen Anual'!B38 -> Nombre del Alumno 35 | AH39: =COUNTIF(C39:AG39, "A") -> 0 | AI39: =COUNTIF(C39:AG39, "F") -> 0 | AJ39: =COUNTIF(C39:AG39, "R") -> 0 | AK39: =COUNTIF(C39:AG39, "J") -> 0

Sheet Noviembre
A1: Lista de Asistencia - Noviembre 2026
A2: Claves de Lista: | B2: A = Asistencia | D2: F = Falta | F2: R = Retardo | H2: J = Justificada
A4: No. | B4: Nombre del Alumno | C4: 1 | D4: 2 | E4: 3 | F4: 4 | G4: 5 | H4: 6 | I4: 7 | J4: 8 | K4: 9 | L4: 10 | M4: 11 | N4: 12 | O4: 13 | P4: 14 | Q4: 15 | R4: 16 | S4: 17 | T4: 18 | U4: 19 | V4: 20 | W4: 21 | X4: 22 | Y4: 23 | Z4: 24 | AA4: 25 | AB4: 26 | AC4: 27 | AD4: 28 | AE4: 29 | AF4: 30 | AG4: Asistencias (A) | AH4: Faltas (F) | AI4: Retardos (R) | AJ4: Justificadas (J)
A5: 1 | B5: ='Resumen Anual'!B4 -> Nombre del Alumno | AG5: =COUNTIF(C5:AF5, "A") -> 0 | AH5: =COUNTIF(C5:AF5, "F") -> 0 | AI5: =COUNTIF(C5:AF5, "R") -> 0 | AJ5: =COUNTIF(C5:AF5, "J") -> 0
A6: 2 | B6: ='Resumen Anual'!B5 -> Nombre del Alumno | AG6: =COUNTIF(C6:AF6, "A") -> 0 | AH6: =COUNTIF(C6:AF6, "F") -> 0 | AI6: =COUNTIF(C6:AF6, "R") -> 0 | AJ6: =COUNTIF(C6:AF6, "J") -> 0
A7: 3 | B7: ='Resumen Anual'!B6 -> Nombre del Alumno | AG7: =COUNTIF(C7:AF7, "A") -> 0 | AH7: =COUNTIF(C7:AF7, "F") -> 0 | AI7: =COUNTIF(C7:AF7, "R") -> 0 | AJ7: =COUNTIF(C7:AF7, "J") -> 0
A8: 4 | B8: ='Resumen Anual'!B7 -> Nombre del Alumno | AG8: =COUNTIF(C8:AF8, "A") -> 0 | AH8: =COUNTIF(C8:AF8, "F") -> 0 | AI8: =COUNTIF(C8:AF8, "R") -> 0 | AJ8: =COUNTIF(C8:AF8, "J") -> 0
A9: 5 | B9: ='Resumen Anual'!B8 -> Nombre del Alumno | AG9: =COUNTIF(C9:AF9, "A") -> 0 | AH9: =COUNTIF(C9:AF9, "F") -> 0 | AI9: =COUNTIF(C9:AF9, "R") -> 0 | AJ9: =COUNTIF(C9:AF9, "J") -> 0
A10: 6 | B10: ='Resumen Anual'!B9 -> Nombre del Alumno | AG10: =COUNTIF(C10:AF10, "A") -> 0 | AH10: =COUNTIF(C10:AF10, "F") -> 0 | AI10: =COUNTIF(C10:AF10, "R") -> 0 | AJ10: =COUNTIF(C10:AF10, "J") -> 0
A11: 7 | B11: ='Resumen Anual'!B10 -> Nombre del Alumno | AG11: =COUNTIF(C11:AF11, "A") -> 0 | AH11: =COUNTIF(C11:AF11, "F") -> 0 | AI11: =COUNTIF(C11:AF11, "R") -> 0 | AJ11: =COUNTIF(C11:AF11, "J") -> 0
A12: 8 | B12: ='Resumen Anual'!B11 -> Nombre del Alumno | AG12: =COUNTIF(C12:AF12, "A") -> 0 | AH12: =COUNTIF(C12:AF12, "F") -> 0 | AI12: =COUNTIF(C12:AF12, "R") -> 0 | AJ12: =COUNTIF(C12:AF12, "J") -> 0
A13: 9 | B13: ='Resumen Anual'!B12 -> Nombre del Alumno | AG13: =COUNTIF(C13:AF13, "A") -> 0 | AH13: =COUNTIF(C13:AF13, "F") -> 0 | AI13: =COUNTIF(C13:AF13, "R") -> 0 | AJ13: =COUNTIF(C13:AF13, "J") -> 0
A14: 10 | B14: ='Resumen Anual'!B13 -> Nombre del Alumno | AG14: =COUNTIF(C14:AF14, "A") -> 0 | AH14: =COUNTIF(C14:AF14, "F") -> 0 | AI14: =COUNTIF(C14:AF14, "R") -> 0 | AJ14: =COUNTIF(C14:AF14, "J") -> 0
A15: 11 | B15: ='Resumen Anual'!B14 -> Nombre del Alumno | AG15: =COUNTIF(C15:AF15, "A") -> 0 | AH15: =COUNTIF(C15:AF15, "F") -> 0 | AI15: =COUNTIF(C15:AF15, "R") -> 0 | AJ15: =COUNTIF(C15:AF15, "J") -> 0
A16: 12 | B16: ='Resumen Anual'!B15 -> Nombre del Alumno | AG16: =COUNTIF(C16:AF16, "A") -> 0 | AH16: =COUNTIF(C16:AF16, "F") -> 0 | AI16: =COUNTIF(C16:AF16, "R") -> 0 | AJ16: =COUNTIF(C16:AF16, "J") -> 0
... A39: 35 | B39: ='Resumen Anual'!B38 -> Nombre del Alumno 35 | AG39: =COUNTIF(C39:AF39, "A") -> 0 | AH39: =COUNTIF(C39:AF39, "F") -> 0 | AI39: =COUNTIF(C39:AF39, "R") -> 0 | AJ39: =COUNTIF(C39:AF39, "J") -> 0

Sheet Diciembre
A1: Lista de Asistencia - Diciembre 2026
A2: Claves de Lista: | B2: A = Asistencia | D2: F = Falta | F2: R = Retardo | H2: J = Justificada
A4: No. | B4: Nombre del Alumno | C4: 1 | D4: 2 | E4: 3 | F4: 4 | G4: 5 | H4: 6 | I4: 7 | J4: 8 | K4: 9 | L4: 10 | M4: 11 | N4: 12 | O4: 13 | P4: 14 | Q4: 15 | R4: 16 | S4: 17 | T4: 18 | U4: 19 | V4: 20 | W4: 21 | X4: 22 | Y4: 23 | Z4: 24 | AA4: 25 | AB4: 26 | AC4: 27 | AD4: 28 | AE4: 29 | AF4: 30 | AG4: 31 | AH4: Asistencias (A) | AI4: Faltas (F) | AJ4: Retardos (R) | AK4: Justificadas (J)
A5: 1 | B5: ='Resumen Anual'!B4 -> Nombre del Alumno | AH5: =COUNTIF(C5:AG5, "A") -> 0 | AI5: =COUNTIF(C5:AG5, "F") -> 0 | AJ5: =COUNTIF(C5:AG5, "R") -> 0 | AK5: =COUNTIF(C5:AG5, "J") -> 0
A6: 2 | B6: ='Resumen Anual'!B5 -> Nombre del Alumno | AH6: =COUNTIF(C6:AG6, "A") -> 0 | AI6: =COUNTIF(C6:AG6, "F") -> 0 | AJ6: =COUNTIF(C6:AG6, "R") -> 0 | AK6: =COUNTIF(C6:AG6, "J") -> 0
A7: 3 | B7: ='Resumen Anual'!B6 -> Nombre del Alumno | AH7: =COUNTIF(C7:AG7, "A") -> 0 | AI7: =COUNTIF(C7:AG7, "F") -> 0 | AJ7: =COUNTIF(C7:AG7, "R") -> 0 | AK7: =COUNTIF(C7:AG7, "J") -> 0
A8: 4 | B8: ='Resumen Anual'!B7 -> Nombre del Alumno | AH8: =COUNTIF(C8:AG8, "A") -> 0 | AI8: =COUNTIF(C8:AG8, "F") -> 0 | AJ8: =COUNTIF(C8:AG8, "R") -> 0 | AK8: =COUNTIF(C8:AG8, "J") -> 0
A9: 5 | B9: ='Resumen Anual'!B8 -> Nombre del Alumno | AH9: =COUNTIF(C9:AG9, "A") -> 0 | AI9: =COUNTIF(C9:AG9, "F") -> 0 | AJ9: =COUNTIF(C9:AG9, "R") -> 0 | AK9: =COUNTIF(C9:AG9, "J") -> 0
A10: 6 | B10: ='Resumen Anual'!B9 -> Nombre del Alumno | AH10: =COUNTIF(C10:AG10, "A") -> 0 | AI10: =COUNTIF(C10:AG10, "F") -> 0 | AJ10: =COUNTIF(C10:AG10, "R") -> 0 | AK10: =COUNTIF(C10:AG10, "J") -> 0
A11: 7 | B11: ='Resumen Anual'!B10 -> Nombre del Alumno | AH11: =COUNTIF(C11:AG11, "A") -> 0 | AI11: =COUNTIF(C11:AG11, "F") -> 0 | AJ11: =COUNTIF(C11:AG11, "R") -> 0 | AK11: =COUNTIF(C11:AG11, "J") -> 0
A12: 8 | B12: ='Resumen Anual'!B11 -> Nombre del Alumno | AH12: =COUNTIF(C12:AG12, "A") -> 0 | AI12: =COUNTIF(C12:AG12, "F") -> 0 | AJ12: =COUNTIF(C12:AG12, "R") -> 0 | AK12: =COUNTIF(C12:AG12, "J") -> 0
A13: 9 | B13: ='Resumen Anual'!B12 -> Nombre del Alumno | AH13: =COUNTIF(C13:AG13, "A") -> 0 | AI13: =COUNTIF(C13:AG13, "F") -> 0 | AJ13: =COUNTIF(C13:AG13, "R") -> 0 | AK13: =COUNTIF(C13:AG13, "J") -> 0
A14: 10 | B14: ='Resumen Anual'!B13 -> Nombre del Alumno | AH14: =COUNTIF(C14:AG14, "A") -> 0 | AI14: =COUNTIF(C14:AG14, "F") -> 0 | AJ14: =COUNTIF(C14:AG14, "R") -> 0 | AK14: =COUNTIF(C14:AG14, "J") -> 0
A15: 11 | B15: ='Resumen Anual'!B14 -> Nombre del Alumno | AH15: =COUNTIF(C15:AG15, "A") -> 0 | AI15: =COUNTIF(C15:AG15, "F") -> 0 | AJ15: =COUNTIF(C15:AG15, "R") -> 0 | AK15: =COUNTIF(C15:AG15, "J") -> 0
A16: 12 | B16: ='Resumen Anual'!B15 -> Nombre del Alumno | AH16: =COUNTIF(C16:AG16, "A") -> 0 | AI16: =COUNTIF(C16:AG16, "F") -> 0 | AJ16: =COUNTIF(C16:AG16, "R") -> 0 | AK16: =COUNTIF(C16:AG16, "J") -> 0
... A39: 35 | B39: ='Resumen Anual'!B38 -> Nombre del Alumno 35 | AH39: =COUNTIF(C39:AG39, "A") -> 0 | AI39: =COUNTIF(C39:AG39, "F") -> 0 | AJ39: =COUNTIF(C39:AG39, "R") -> 0 | AK39: =COUNTIF(C39:AG39, "J") -> 0

Sheet Enero
A1: Lista de Asistencia - Enero 2027
A2: Claves de Lista: | B2: A = Asistencia | D2: F = Falta | F2: R = Retardo | H2: J = Justificada
A4: No. | B4: Nombre del Alumno | C4: 1 | D4: 2 | E4: 3 | F4: 4 | G4: 5 | H4: 6 | I4: 7 | J4: 8 | K4: 9 | L4: 10 | M4: 11 | N4: 12 | O4: 13 | P4: 14 | Q4: 15 | R4: 16 | S4: 17 | T4: 18 | U4: 19 | V4: 20 | W4: 21 | X4: 22 | Y4: 23 | Z4: 24 | AA4: 25 | AB4: 26 | AC4: 27 | AD4: 28 | AE4: 29 | AF4: 30 | AG4: 31 | AH4: Asistencias (A) | AI4: Faltas (F) | AJ4: Retardos (R) | AK4: Justificadas (J)
A5: 1 | B5: ='Resumen Anual'!B4 -> Nombre del Alumno | AH5: =COUNTIF(C5:AG5, "A") -> 0 | AI5: =COUNTIF(C5:AG5, "F") -> 0 | AJ5: =COUNTIF(C5:AG5, "R") -> 0 | AK5: =COUNTIF(C5:AG5, "J") -> 0
A6: 2 | B6: ='Resumen Anual'!B5 -> Nombre del Alumno | AH6: =COUNTIF(C6:AG6, "A") -> 0 | AI6: =COUNTIF(C6:AG6, "F") -> 0 | AJ6: =COUNTIF(C6:AG6, "R") -> 0 | AK6: =COUNTIF(C6:AG6, "J") -> 0
A7: 3 | B7: ='Resumen Anual'!B6 -> Nombre del Alumno | AH7: =COUNTIF(C7:AG7, "A") -> 0 | AI7: =COUNTIF(C7:AG7, "F") -> 0 | AJ7: =COUNTIF(C7:AG7, "R") -> 0 | AK7: =COUNTIF(C7:AG7, "J") -> 0
A8: 4 | B8: ='Resumen Anual'!B7 -> Nombre del Alumno | AH8: =COUNTIF(C8:AG8, "A") -> 0 | AI8: =COUNTIF(C8:AG8, "F") -> 0 | AJ8: =COUNTIF(C8:AG8, "R") -> 0 | AK8: =COUNTIF(C8:AG8, "J") -> 0
A9: 5 | B9: ='Resumen Anual'!B8 -> Nombre del Alumno | AH9: =COUNTIF(C9:AG9, "A") -> 0 | AI9: =COUNTIF(C9:AG9, "F") -> 0 | AJ9: =COUNTIF(C9:AG9, "R") -> 0 | AK9: =COUNTIF(C9:AG9, "J") -> 0
A10: 6 | B10: ='Resumen Anual'!B9 -> Nombre del Alumno | AH10: =COUNTIF(C10:AG10, "A") -> 0 | AI10: =COUNTIF(C10:AG10, "F") -> 0 | AJ10: =COUNTIF(C10:AG10, "R") -> 0 | AK10: =COUNTIF(C10:AG10, "J") -> 0
A11: 7 | B11: ='Resumen Anual'!B10 -> Nombre del Alumno | AH11: =COUNTIF(C11:AG11, "A") -> 0 | AI11: =COUNTIF(C11:AG11, "F") -> 0 | AJ11: =COUNTIF(C11:AG11, "R") -> 0 | AK11: =COUNTIF(C11:AG11, "J") -> 0
A12: 8 | B12: ='Resumen Anual'!B11 -> Nombre del Alumno | AH12: =COUNTIF(C12:AG12, "A") -> 0 | AI12: =COUNTIF(C12:AG12, "F") -> 0 | AJ12: =COUNTIF(C12:AG12, "R") -> 0 | AK12: =COUNTIF(C12:AG12, "J") -> 0
A13: 9 | B13: ='Resumen Anual'!B12 -> Nombre del Alumno | AH13: =COUNTIF(C13:AG13, "A") -> 0 | AI13: =COUNTIF(C13:AG13, "F") -> 0 | AJ13: =COUNTIF(C13:AG13, "R") -> 0 | AK13: =COUNTIF(C13:AG13, "J") -> 0
A14: 10 | B14: ='Resumen Anual'!B13 -> Nombre del Alumno | AH14: =COUNTIF(C14:AG14, "A") -> 0 | AI14: =COUNTIF(C14:AG14, "F") -> 0 | AJ14: =COUNTIF(C14:AG14, "R") -> 0 | AK14: =COUNTIF(C14:AG14, "J") -> 0
A15: 11 | B15: ='Resumen Anual'!B14 -> Nombre del Alumno | AH15: =COUNTIF(C15:AG15, "A") -> 0 | AI15: =COUNTIF(C15:AG15, "F") -> 0 | AJ15: =COUNTIF(C15:AG15, "R") -> 0 | AK15: =COUNTIF(C15:AG15, "J") -> 0
A16: 12 | B16: ='Resumen Anual'!B15 -> Nombre del Alumno | AH16: =COUNTIF(C16:AG16, "A") -> 0 | AI16: =COUNTIF(C16:AG16, "F") -> 0 | AJ16: =COUNTIF(C16:AG16, "R") -> 0 | AK16: =COUNTIF(C16:AG16, "J") -> 0
... A39: 35 | B39: ='Resumen Anual'!B38 -> Nombre del Alumno 35 | AH39: =COUNTIF(C39:AG39, "A") -> 0 | AI39: =COUNTIF(C39:AG39, "F") -> 0 | AJ39: =COUNTIF(C39:AG39, "R") -> 0 | AK39: =COUNTIF(C39:AG39, "J") -> 0

Sheet Febrero
A1: Lista de Asistencia - Febrero 2027
A2: Claves de Lista: | B2: A = Asistencia | D2: F = Falta | F2: R = Retardo | H2: J = Justificada
A4: No. | B4: Nombre del Alumno | C4: 1 | D4: 2 | E4: 3 | F4: 4 | G4: 5 | H4: 6 | I4: 7 | J4: 8 | K4: 9 | L4: 10 | M4: 11 | N4: 12 | O4: 13 | P4: 14 | Q4: 15 | R4: 16 | S4: 17 | T4: 18 | U4: 19 | V4: 20 | W4: 21 | X4: 22 | Y4: 23 | Z4: 24 | AA4: 25 | AB4: 26 | AC4: 27 | AD4: 28 | AE4: Asistencias (A) | AF4: Faltas (F) | AG4: Retardos (R) | AH4: Justificadas (J)
A5: 1 | B5: ='Resumen Anual'!B4 -> Nombre del Alumno | AE5: =COUNTIF(C5:AD5, "A") -> 0 | AF5: =COUNTIF(C5:AD5, "F") -> 0 | AG5: =COUNTIF(C5:AD5, "R") -> 0 | AH5: =COUNTIF(C5:AD5, "J") -> 0
A6: 2 | B6: ='Resumen Anual'!B5 -> Nombre del Alumno | AE6: =COUNTIF(C6:AD6, "A") -> 0 | AF6: =COUNTIF(C6:AD6, "F") -> 0 | AG6: =COUNTIF(C6:AD6, "R") -> 0 | AH6: =COUNTIF(C6:AD6, "J") -> 0
A7: 3 | B7: ='Resumen Anual'!B6 -> Nombre del Alumno | AE7: =COUNTIF(C7:AD7, "A") -> 0 | AF7: =COUNTIF(C7:AD7, "F") -> 0 | AG7: =COUNTIF(C7:AD7, "R") -> 0 | AH7: =COUNTIF(C7:AD7, "J") -> 0
A8: 4 | B8: ='Resumen Anual'!B7 -> Nombre del Alumno | AE8: =COUNTIF(C8:AD8, "A") -> 0 | AF8: =COUNTIF(C8:AD8, "F") -> 0 | AG8: =COUNTIF(C8:AD8, "R") -> 0 | AH8: =COUNTIF(C8:AD8, "J") -> 0
A9: 5 | B9: ='Resumen Anual'!B8 -> Nombre del Alumno | AE9: =COUNTIF(C9:AD9, "A") -> 0 | AF9: =COUNTIF(C9:AD9, "F") -> 0 | AG9: =COUNTIF(C9:AD9, "R") -> 0 | AH9: =COUNTIF(C9:AD9, "J") -> 0
A10: 6 | B10: ='Resumen Anual'!B9 -> Nombre del Alumno | AE10: =COUNTIF(C10:AD10, "A") -> 0 | AF10: =COUNTIF(C10:AD10, "F") -> 0 | AG10: =COUNTIF(C10:AD10, "R") -> 0 | AH10: =COUNTIF(C10:AD10, "J") -> 0
A11: 7 | B11: ='Resumen Anual'!B10 -> Nombre del Alumno | AE11: =COUNTIF(C11:AD11, "A") -> 0 | AF11: =COUNTIF(C11:AD11, "F") -> 0 | AG11: =COUNTIF(C11:AD11, "R") -> 0 | AH11: =COUNTIF(C11:AD11, "J") -> 0
A12: 8 | B12: ='Resumen Anual'!B11 -> Nombre del Alumno | AE12: =COUNTIF(C12:AD12, "A") -> 0 | AF12: =COUNTIF(C12:AD12, "F") -> 0 | AG12: =COUNTIF(C12:AD12, "R") -> 0 | AH12: =COUNTIF(C12:AD12, "J") -> 0
A13: 9 | B13: ='Resumen Anual'!B12 -> Nombre del Alumno | AE13: =COUNTIF(C13:AD13, "A") -> 0 | AF13: =COUNTIF(C13:AD13, "F") -> 0 | AG13: =COUNTIF(C13:AD13, "R") -> 0 | AH13: =COUNTIF(C13:AD13, "J") -> 0
A14: 10 | B14: ='Resumen Anual'!B13 -> Nombre del Alumno | AE14: =COUNTIF(C14:AD14, "A") -> 0 | AF14: =COUNTIF(C14:AD14, "F") -> 0 | AG14: =COUNTIF(C14:AD14, "R") -> 0 | AH14: =COUNTIF(C14:AD14, "J") -> 0
A15: 11 | B15: ='Resumen Anual'!B14 -> Nombre del Alumno | AE15: =COUNTIF(C15:AD15, "A") -> 0 | AF15: =COUNTIF(C15:AD15, "F") -> 0 | AG15: =COUNTIF(C15:AD15, "R") -> 0 | AH15: =COUNTIF(C15:AD15, "J") -> 0
A16: 12 | B16: ='Resumen Anual'!B15 -> Nombre del Alumno | AE16: =COUNTIF(C16:AD16, "A") -> 0 | AF16: =COUNTIF(C16:AD16, "F") -> 0 | AG16: =COUNTIF(C16:AD16, "R") -> 0 | AH16: =COUNTIF(C16:AD16, "J") -> 0
... A39: 35 | B39: ='Resumen Anual'!B38 -> Nombre del Alumno 35 | AE39: =COUNTIF(C39:AD39, "A") -> 0 | AF39: =COUNTIF(C39:AD39, "F") -> 0 | AG39: =COUNTIF(C39:AD39, "R") -> 0 | AH39: =COUNTIF(C39:AD39, "J") -> 0

Sheet Marzo
A1: Lista de Asistencia - Marzo 2027
A2: Claves de Lista: | B2: A = Asistencia | D2: F = Falta | F2: R = Retardo | H2: J = Justificada
A4: No. | B4: Nombre del Alumno | C4: 1 | D4: 2 | E4: 3 | F4: 4 | G4: 5 | H4: 6 | I4: 7 | J4: 8 | K4: 9 | L4: 10 | M4: 11 | N4: 12 | O4: 13 | P4: 14 | Q4: 15 | R4: 16 | S4: 17 | T4: 18 | U4: 19 | V4: 20 | W4: 21 | X4: 22 | Y4: 23 | Z4: 24 | AA4: 25 | AB4: 26 | AC4: 27 | AD4: 28 | AE4: 29 | AF4: 30 | AG4: 31 | AH4: Asistencias (A) | AI4: Faltas (F) | AJ4: Retardos (R) | AK4: Justificadas (J)
A5: 1 | B5: ='Resumen Anual'!B4 -> Nombre del Alumno | AH5: =COUNTIF(C5:AG5, "A") -> 0 | AI5: =COUNTIF(C5:AG5, "F") -> 0 | AJ5: =COUNTIF(C5:AG5, "R") -> 0 | AK5: =COUNTIF(C5:AG5, "J") -> 0
A6: 2 | B6: ='Resumen Anual'!B5 -> Nombre del Alumno | AH6: =COUNTIF(C6:AG6, "A") -> 0 | AI6: =COUNTIF(C6:AG6, "F") -> 0 | AJ6: =COUNTIF(C6:AG6, "R") -> 0 | AK6: =COUNTIF(C6:AG6, "J") -> 0
A7: 3 | B7: ='Resumen Anual'!B6 -> Nombre del Alumno | AH7: =COUNTIF(C7:AG7, "A") -> 0 | AI7: =COUNTIF(C7:AG7, "F") -> 0 | AJ7: =COUNTIF(C7:AG7, "R") -> 0 | AK7: =COUNTIF(C7:AG7, "J") -> 0
A8: 4 | B8: ='Resumen Anual'!B7 -> Nombre del Alumno | AH8: =COUNTIF(C8:AG8, "A") -> 0 | AI8: =COUNTIF(C8:AG8, "F") -> 0 | AJ8: =COUNTIF(C8:AG8, "R") -> 0 | AK8: =COUNTIF(C8:AG8, "J") -> 0
A9: 5 | B9: ='Resumen Anual'!B8 -> Nombre del Alumno | AH9: =COUNTIF(C9:AG9, "A") -> 0 | AI9: =COUNTIF(C9:AG9, "F") -> 0 | AJ9: =COUNTIF(C9:AG9, "R") -> 0 | AK9: =COUNTIF(C9:AG9, "J") -> 0
A10: 6 | B10: ='Resumen Anual'!B9 -> Nombre del Alumno | AH10: =COUNTIF(C10:AG10, "A") -> 0 | AI10: =COUNTIF(C10:AG10, "F") -> 0 | AJ10: =COUNTIF(C10:AG10, "R") -> 0 | AK10: =COUNTIF(C10:AG10, "J") -> 0
A11: 7 | B11: ='Resumen Anual'!B10 -> Nombre del Alumno | AH11: =COUNTIF(C11:AG11, "A") -> 0 | AI11: =COUNTIF(C11:AG11, "F") -> 0 | AJ11: =COUNTIF(C11:AG11, "R") -> 0 | AK11: =COUNTIF(C11:AG11, "J") -> 0
A12: 8 | B12: ='Resumen Anual'!B11 -> Nombre del Alumno | AH12: =COUNTIF(C12:AG12, "A") -> 0 | AI12: =COUNTIF(C12:AG12, "F") -> 0 | AJ12: =COUNTIF(C12:AG12, "R") -> 0 | AK12: =COUNTIF(C12:AG12, "J") -> 0
A13: 9 | B13: ='Resumen Anual'!B12 -> Nombre del Alumno | AH13: =COUNTIF(C13:AG13, "A") -> 0 | AI13: =COUNTIF(C13:AG13, "F") -> 0 | AJ13: =COUNTIF(C13:AG13, "R") -> 0 | AK13: =COUNTIF(C13:AG13, "J") -> 0
A14: 10 | B14: ='Resumen Anual'!B13 -> Nombre del Alumno | AH14: =COUNTIF(C14:AG14, "A") -> 0 | AI14: =COUNTIF(C14:AG14, "F") -> 0 | AJ14: =COUNTIF(C14:AG14, "R") -> 0 | AK14: =COUNTIF(C14:AG14, "J") -> 0
A15: 11 | B15: ='Resumen Anual'!B14 -> Nombre del Alumno | AH15: =COUNTIF(C15:AG15, "A") -> 0 | AI15: =COUNTIF(C15:AG15, "F") -> 0 | AJ15: =COUNTIF(C15:AG15, "R") -> 0 | AK15: =COUNTIF(C15:AG15, "J") -> 0
A16: 12 | B16: ='Resumen Anual'!B15 -> Nombre del Alumno | AH16: =COUNTIF(C16:AG16, "A") -> 0 | AI16: =COUNTIF(C16:AG16, "F") -> 0 | AJ16: =COUNTIF(C16:AG16, "R") -> 0 | AK16: =COUNTIF(C16:AG16, "J") -> 0
... A39: 35 | B39: ='Resumen Anual'!B38 -> Nombre del Alumno 35 | AH39: =COUNTIF(C39:AG39, "A") -> 0 | AI39: =COUNTIF(C39:AG39, "F") -> 0 | AJ39: =COUNTIF(C39:AG39, "R") -> 0 | AK39: =COUNTIF(C39:AG39, "J") -> 0

Sheet Abril
A1: Lista de Asistencia - Abril 2027
A2: Claves de Lista: | B2: A = Asistencia | D2: F = Falta | F2: R = Retardo | H2: J = Justificada
A4: No. | B4: Nombre del Alumno | C4: 1 | D4: 2 | E4: 3 | F4: 4 | G4: 5 | H4: 6 | I4: 7 | J4: 8 | K4: 9 | L4: 10 | M4: 11 | N4: 12 | O4: 13 | P4: 14 | Q4: 15 | R4: 16 | S4: 17 | T4: 18 | U4: 19 | V4: 20 | W4: 21 | X4: 22 | Y4: 23 | Z4: 24 | AA4: 25 | AB4: 26 | AC4: 27 | AD4: 28 | AE4: 29 | AF4: 30 | AG4: Asistencias (A) | AH4: Faltas (F) | AI4: Retardos (R) | AJ4: Justificadas (J)
A5: 1 | B5: ='Resumen Anual'!B4 -> Nombre del Alumno | AG5: =COUNTIF(C5:AF5, "A") -> 0 | AH5: =COUNTIF(C5:AF5, "F") -> 0 | AI5: =COUNTIF(C5:AF5, "R") -> 0 | AJ5: =COUNTIF(C5:AF5, "J") -> 0
A6: 2 | B6: ='Resumen Anual'!B5 -> Nombre del Alumno | AG6: =COUNTIF(C6:AF6, "A") -> 0 | AH6: =COUNTIF(C6:AF6, "F") -> 0 | AI6: =COUNTIF(C6:AF6, "R") -> 0 | AJ6: =COUNTIF(C6:AF6, "J") -> 0
A7: 3 | B7: ='Resumen Anual'!B6 -> Nombre del Alumno | AG7: =COUNTIF(C7:AF7, "A") -> 0 | AH7: =COUNTIF(C7:AF7, "F") -> 0 | AI7: =COUNTIF(C7:AF7, "R") -> 0 | AJ7: =COUNTIF(C7:AF7, "J") -> 0
A8: 4 | B8: ='Resumen Anual'!B7 -> Nombre del Alumno | AG8: =COUNTIF(C8:AF8, "A") -> 0 | AH8: =COUNTIF(C8:AF8, "F") -> 0 | AI8: =COUNTIF(C8:AF8, "R") -> 0 | AJ8: =COUNTIF(C8:AF8, "J") -> 0
A9: 5 | B9: ='Resumen Anual'!B8 -> Nombre del Alumno | AG9: =COUNTIF(C9:AF9, "A") -> 0 | AH9: =COUNTIF(C9:AF9, "F") -> 0 | AI9: =COUNTIF(C9:AF9, "R") -> 0 | AJ9: =COUNTIF(C9:AF9, "J") -> 0
A10: 6 | B10: ='Resumen Anual'!B9 -> Nombre del Alumno | AG10: =COUNTIF(C10:AF10, "A") -> 0 | AH10: =COUNTIF(C10:AF10, "F") -> 0 | AI10: =COUNTIF(C10:AF10, "R") -> 0 | AJ10: =COUNTIF(C10:AF10, "J") -> 0
A11: 7 | B11: ='Resumen Anual'!B10 -> Nombre del Alumno | AG11: =COUNTIF(C11:AF11, "A") -> 0 | AH11: =COUNTIF(C11:AF11, "F") -> 0 | AI11: =COUNTIF(C11:AF11, "R") -> 0 | AJ11: =COUNTIF(C11:AF11, "J") -> 0
A12: 8 | B12: ='Resumen Anual'!B11 -> Nombre del Alumno | AG12: =COUNTIF(C12:AF12, "A") -> 0 | AH12: =COUNTIF(C12:AF12, "F") -> 0 | AI12: =COUNTIF(C12:AF12, "R") -> 0 | AJ12: =COUNTIF(C12:AF12, "J") -> 0
A13: 9 | B13: ='Resumen Anual'!B12 -> Nombre del Alumno | AG13: =COUNTIF(C13:AF13, "A") -> 0 | AH13: =COUNTIF(C13:AF13, "F") -> 0 | AI13: =COUNTIF(C13:AF13, "R") -> 0 | AJ13: =COUNTIF(C13:AF13, "J") -> 0
A14: 10 | B14: ='Resumen Anual'!B13 -> Nombre del Alumno | AG14: =COUNTIF(C14:AF14, "A") -> 0 | AH14: =COUNTIF(C14:AF14, "F") -> 0 | AI14: =COUNTIF(C14:AF14, "R") -> 0 | AJ14: =COUNTIF(C14:AF14, "J") -> 0
A15: 11 | B15: ='Resumen Anual'!B14 -> Nombre del Alumno | AG15: =COUNTIF(C15:AF15, "A") -> 0 | AH15: =COUNTIF(C15:AF15, "F") -> 0 | AI15: =COUNTIF(C15:AF15, "R") -> 0 | AJ15: =COUNTIF(C15:AF15, "J") -> 0
A16: 12 | B16: ='Resumen Anual'!B15 -> Nombre del Alumno | AG16: =COUNTIF(C16:AF16, "A") -> 0 | AH16: =COUNTIF(C16:AF16, "F") -> 0 | AI16: =COUNTIF(C16:AF16, "R") -> 0 | AJ16: =COUNTIF(C16:AF16, "J") -> 0
... A39: 35 | B39: ='Resumen Anual'!B38 -> Nombre del Alumno 35 | AG39: =COUNTIF(C39:AF39, "A") -> 0 | AH39: =COUNTIF(C39:AF39, "F") -> 0 | AI39: =COUNTIF(C39:AF39, "R") -> 0 | AJ39: =COUNTIF(C39:AF39, "J") -> 0

Sheet Mayo
A1: Lista de Asistencia - Mayo 2027
A2: Claves de Lista: | B2: A = Asistencia | D2: F = Falta | F2: R = Retardo | H2: J = Justificada
A4: No. | B4: Nombre del Alumno | C4: 1 | D4: 2 | E4: 3 | F4: 4 | G4: 5 | H4: 6 | I4: 7 | J4: 8 | K4: 9 | L4: 10 | M4: 11 | N4: 12 | O4: 13 | P4: 14 | Q4: 15 | R4: 16 | S4: 17 | T4: 18 | U4: 19 | V4: 20 | W4: 21 | X4: 22 | Y4: 23 | Z4: 24 | AA4: 25 | AB4: 26 | AC4: 27 | AD4: 28 | AE4: 29 | AF4: 30 | AG4: 31 | AH4: Asistencias (A) | AI4: Faltas (F) | AJ4: Retardos (R) | AK4: Justificadas (J)
A5: 1 | B5: ='Resumen Anual'!B4 -> Nombre del Alumno | AH5: =COUNTIF(C5:AG5, "A") -> 0 | AI5: =COUNTIF(C5:AG5, "F") -> 0 | AJ5: =COUNTIF(C5:AG5, "R") -> 0 | AK5: =COUNTIF(C5:AG5, "J") -> 0
A6: 2 | B6: ='Resumen Anual'!B5 -> Nombre del Alumno | AH6: =COUNTIF(C6:AG6, "A") -> 0 | AI6: =COUNTIF(C6:AG6, "F") -> 0 | AJ6: =COUNTIF(C6:AG6, "R") -> 0 | AK6: =COUNTIF(C6:AG6, "J") -> 0
A7: 3 | B7: ='Resumen Anual'!B6 -> Nombre del Alumno | AH7: =COUNTIF(C7:AG7, "A") -> 0 | AI7: =COUNTIF(C7:AG7, "F") -> 0 | AJ7: =COUNTIF(C7:AG7, "R") -> 0 | AK7: =COUNTIF(C7:AG7, "J") -> 0
A8: 4 | B8: ='Resumen Anual'!B7 -> Nombre del Alumno | AH8: =COUNTIF(C8:AG8, "A") -> 0 | AI8: =COUNTIF(C8:AG8, "F") -> 0 | AJ8: =COUNTIF(C8:AG8, "R") -> 0 | AK8: =COUNTIF(C8:AG8, "J") -> 0
A9: 5 | B9: ='Resumen Anual'!B8 -> Nombre del Alumno | AH9: =COUNTIF(C9:AG9, "A") -> 0 | AI9: =COUNTIF(C9:AG9, "F") -> 0 | AJ9: =COUNTIF(C9:AG9, "R") -> 0 | AK9: =COUNTIF(C9:AG9, "J") -> 0
A10: 6 | B10: ='Resumen Anual'!B9 -> Nombre del Alumno | AH10: =COUNTIF(C10:AG10, "A") -> 0 | AI10: =COUNTIF(C10:AG10, "F") -> 0 | AJ10: =COUNTIF(C10:AG10, "R") -> 0 | AK10: =COUNTIF(C10:AG10, "J") -> 0
A11: 7 | B11: ='Resumen Anual'!B10 -> Nombre del Alumno | AH11: =COUNTIF(C11:AG11, "A") -> 0 | AI11: =COUNTIF(C11:AG11, "F") -> 0 | AJ11: =COUNTIF(C11:AG11, "R") -> 0 | AK11: =COUNTIF(C11:AG11, "J") -> 0
A12: 8 | B12: ='Resumen Anual'!B11 -> Nombre del Alumno | AH12: =COUNTIF(C12:AG12, "A") -> 0 | AI12: =COUNTIF(C12:AG12, "F") -> 0 | AJ12: =COUNTIF(C12:AG12, "R") -> 0 | AK12: =COUNTIF(C12:AG12, "J") -> 0
A13: 9 | B13: ='Resumen Anual'!B12 -> Nombre del Alumno | AH13: =COUNTIF(C13:AG13, "A") -> 0 | AI13: =COUNTIF(C13:AG13, "F") -> 0 | AJ13: =COUNTIF(C13:AG13, "R") -> 0 | AK13: =COUNTIF(C13:AG13, "J") -> 0
A14: 10 | B14: ='Resumen Anual'!B13 -> Nombre del Alumno | AH14: =COUNTIF(C14:AG14, "A") -> 0 | AI14: =COUNTIF(C14:AG14, "F") -> 0 | AJ14: =COUNTIF(C14:AG14, "R") -> 0 | AK14: =COUNTIF(C14:AG14, "J") -> 0
A15: 11 | B15: ='Resumen Anual'!B14 -> Nombre del Alumno | AH15: =COUNTIF(C15:AG15, "A") -> 0 | AI15: =COUNTIF(C15:AG15, "F") -> 0 | AJ15: =COUNTIF(C15:AG15, "R") -> 0 | AK15: =COUNTIF(C15:AG15, "J") -> 0
A16: 12 | B16: ='Resumen Anual'!B15 -> Nombre del Alumno | AH16: =COUNTIF(C16:AG16, "A") -> 0 | AI16: =COUNTIF(C16:AG16, "F") -> 0 | AJ16: =COUNTIF(C16:AG16, "R") -> 0 | AK16: =COUNTIF(C16:AG16, "J") -> 0
... A39: 35 | B39: ='Resumen Anual'!B38 -> Nombre del Alumno 35 | AH39: =COUNTIF(C39:AG39, "A") -> 0 | AI39: =COUNTIF(C39:AG39, "F") -> 0 | AJ39: =COUNTIF(C39:AG39, "R") -> 0 | AK39: =COUNTIF(C39:AG39, "J") -> 0

Sheet Junio
A1: Lista de Asistencia - Junio 2027
A2: Claves de Lista: | B2: A = Asistencia | D2: F = Falta | F2: R = Retardo | H2: J = Justificada
A4: No. | B4: Nombre del Alumno | C4: 1 | D4: 2 | E4: 3 | F4: 4 | G4: 5 | H4: 6 | I4: 7 | J4: 8 | K4: 9 | L4: 10 | M4: 11 | N4: 12 | O4: 13 | P4: 14 | Q4: 15 | R4: 16 | S4: 17 | T4: 18 | U4: 19 | V4: 20 | W4: 21 | X4: 22 | Y4: 23 | Z4: 24 | AA4: 25 | AB4: 26 | AC4: 27 | AD4: 28 | AE4: 29 | AF4: 30 | AG4: Asistencias (A) | AH4: Faltas (F) | AI4: Retardos (R) | AJ4: Justificadas (J)
A5: 1 | B5: ='Resumen Anual'!B4 -> Nombre del Alumno | AG5: =COUNTIF(C5:AF5, "A") -> 0 | AH5: =COUNTIF(C5:AF5, "F") -> 0 | AI5: =COUNTIF(C5:AF5, "R") -> 0 | AJ5: =COUNTIF(C5:AF5, "J") -> 0
A6: 2 | B6: ='Resumen Anual'!B5 -> Nombre del Alumno | AG6: =COUNTIF(C6:AF6, "A") -> 0 | AH6: =COUNTIF(C6:AF6, "F") -> 0 | AI6: =COUNTIF(C6:AF6, "R") -> 0 | AJ6: =COUNTIF(C6:AF6, "J") -> 0
A7: 3 | B7: ='Resumen Anual'!B6 -> Nombre del Alumno | AG7: =COUNTIF(C7:AF7, "A") -> 0 | AH7: =COUNTIF(C7:AF7, "F") -> 0 | AI7: =COUNTIF(C7:AF7, "R") -> 0 | AJ7: =COUNTIF(C7:AF7, "J") -> 0
A8: 4 | B8: ='Resumen Anual'!B7 -> Nombre del Alumno | AG8: =COUNTIF(C8:AF8, "A") -> 0 | AH8: =COUNTIF(C8:AF8, "F") -> 0 | AI8: =COUNTIF(C8:AF8, "R") -> 0 | AJ8: =COUNTIF(C8:AF8, "J") -> 0
A9: 5 | B9: ='Resumen Anual'!B8 -> Nombre del Alumno | AG9: =COUNTIF(C9:AF9, "A") -> 0 | AH9: =COUNTIF(C9:AF9, "F") -> 0 | AI9: =COUNTIF(C9:AF9, "R") -> 0 | AJ9: =COUNTIF(C9:AF9, "J") -> 0
A10: 6 | B10: ='Resumen Anual'!B9 -> Nombre del Alumno | AG10: =COUNTIF(C10:AF10, "A") -> 0 | AH10: =COUNTIF(C10:AF10, "F") -> 0 | AI10: =COUNTIF(C10:AF10, "R") -> 0 | AJ10: =COUNTIF(C10:AF10, "J") -> 0
A11: 7 | B11: ='Resumen Anual'!B10 -> Nombre del Alumno | AG11: =COUNTIF(C11:AF11, "A") -> 0 | AH11: =COUNTIF(C11:AF11, "F") -> 0 | AI11: =COUNTIF(C11:AF11, "R") -> 0 | AJ11: =COUNTIF(C11:AF11, "J") -> 0
A12: 8 | B12: ='Resumen Anual'!B11 -> Nombre del Alumno | AG12: =COUNTIF(C12:AF12, "A") -> 0 | AH12: =COUNTIF(C12:AF12, "F") -> 0 | AI12: =COUNTIF(C12:AF12, "R") -> 0 | AJ12: =COUNTIF(C12:AF12, "J") -> 0
A13: 9 | B13: ='Resumen Anual'!B12 -> Nombre del Alumno | AG13: =COUNTIF(C13:AF13, "A") -> 0 | AH13: =COUNTIF(C13:AF13, "F") -> 0 | AI13: =COUNTIF(C13:AF13, "R") -> 0 | AJ13: =COUNTIF(C13:AF13, "J") -> 0
A14: 10 | B14: ='Resumen Anual'!B13 -> Nombre del Alumno | AG14: =COUNTIF(C14:AF14, "A") -> 0 | AH14: =COUNTIF(C14:AF14, "F") -> 0 | AI14: =COUNTIF(C14:AF14, "R") -> 0 | AJ14: =COUNTIF(C14:AF14, "J") -> 0
A15: 11 | B15: ='Resumen Anual'!B14 -> Nombre del Alumno | AG15: =COUNTIF(C15:AF15, "A") -> 0 | AH15: =COUNTIF(C15:AF15, "F") -> 0 | AI15: =COUNTIF(C15:AF15, "R") -> 0 | AJ15: =COUNTIF(C15:AF15, "J") -> 0
A16: 12 | B16: ='Resumen Anual'!B15 -> Nombre del Alumno | AG16: =COUNTIF(C16:AF16, "A") -> 0 | AH16: =COUNTIF(C16:AF16, "F") -> 0 | AI16: =COUNTIF(C16:AF16, "R") -> 0 | AJ16: =COUNTIF(C16:AF16, "J") -> 0
... A39: 35 | B39: ='Resumen Anual'!B38 -> Nombre del Alumno 35 | AG39: =COUNTIF(C39:AF39, "A") -> 0 | AH39: =COUNTIF(C39:AF39, "F") -> 0 | AI39: =COUNTIF(C39:AF39, "R") -> 0 | AJ39: =COUNTIF(C39:AF39, "J") -> 0

Sheet Julio
A1: Lista de Asistencia - Julio 2027
A2: Claves de Lista: | B2: A = Asistencia | D2: F = Falta | F2: R = Retardo | H2: J = Justificada
A4: No. | B4: Nombre del Alumno | C4: 1 | D4: 2 | E4: 3 | F4: 4 | G4: 5 | H4: 6 | I4: 7 | J4: 8 | K4: 9 | L4: 10 | M4: 11 | N4: 12 | O4: 13 | P4: 14 | Q4: 15 | R4: 16 | S4: 17 | T4: 18 | U4: 19 | V4: 20 | W4: 21 | X4: 22 | Y4: 23 | Z4: 24 | AA4: 25 | AB4: 26 | AC4: 27 | AD4: 28 | AE4: 29 | AF4: 30 | AG4: 31 | AH4: Asistencias (A) | AI4: Faltas (F) | AJ4: Retardos (R) | AK4: Justificadas (J)
A5: 1 | B5: ='Resumen Anual'!B4 -> Nombre del Alumno | AH5: =COUNTIF(C5:AG5, "A") -> 0 | AI5: =COUNTIF(C5:AG5, "F") -> 0 | AJ5: =COUNTIF(C5:AG5, "R") -> 0 | AK5: =COUNTIF(C5:AG5, "J") -> 0
A6: 2 | B6: ='Resumen Anual'!B5 -> Nombre del Alumno | AH6: =COUNTIF(C6:AG6, "A") -> 0 | AI6: =COUNTIF(C6:AG6, "F") -> 0 | AJ6: =COUNTIF(C6:AG6, "R") -> 0 | AK6: =COUNTIF(C6:AG6, "J") -> 0
A7: 3 | B7: ='Resumen Anual'!B6 -> Nombre del Alumno | AH7: =COUNTIF(C7:AG7, "A") -> 0 | AI7: =COUNTIF(C7:AG7, "F") -> 0 | AJ7: =COUNTIF(C7:AG7, "R") -> 0 | AK7: =COUNTIF(C7:AG7, "J") -> 0
A8: 4 | B8: ='Resumen Anual'!B7 -> Nombre del Alumno | AH8: =COUNTIF(C8:AG8, "A") -> 0 | AI8: =COUNTIF(C8:AG8, "F") -> 0 | AJ8: =COUNTIF(C8:AG8, "R") -> 0 | AK8: =COUNTIF(C8:AG8, "J") -> 0
A9: 5 | B9: ='Resumen Anual'!B8 -> Nombre del Alumno | AH9: =COUNTIF(C9:AG9, "A") -> 0 | AI9: =COUNTIF(C9:AG9, "F") -> 0 | AJ9: =COUNTIF(C9:AG9, "R") -> 0 | AK9: =COUNTIF(C9:AG9, "J") -> 0
A10: 6 | B10: ='Resumen Anual'!B9 -> Nombre del Alumno | AH10: =COUNTIF(C10:AG10, "A") -> 0 | AI10: =COUNTIF(C10:AG10, "F") -> 0 | AJ10: =COUNTIF(C10:AG10, "R") -> 0 | AK10: =COUNTIF(C10:AG10, "J") -> 0
A11: 7 | B11: ='Resumen Anual'!B10 -> Nombre del Alumno | AH11: =COUNTIF(C11:AG11, "A") -> 0 | AI11: =COUNTIF(C11:AG11, "F") -> 0 | AJ11: =COUNTIF(C11:AG11, "R") -> 0 | AK11: =COUNTIF(C11:AG11, "J") -> 0
A12: 8 | B12: ='Resumen Anual'!B11 -> Nombre del Alumno | AH12: =COUNTIF(C12:AG12, "A") -> 0 | AI12: =COUNTIF(C12:AG12, "F") -> 0 | AJ12: =COUNTIF(C12:AG12, "R") -> 0 | AK12: =COUNTIF(C12:AG12, "J") -> 0
A13: 9 | B13: ='Resumen Anual'!B12 -> Nombre del Alumno | AH13: =COUNTIF(C13:AG13, "A") -> 0 | AI13: =COUNTIF(C13:AG13, "F") -> 0 | AJ13: =COUNTIF(C13:AG13, "R") -> 0 | AK13: =COUNTIF(C13:AG13, "J") -> 0
A14: 10 | B14: ='Resumen Anual'!B13 -> Nombre del Alumno | AH14: =COUNTIF(C14:AG14, "A") -> 0 | AI14: =COUNTIF(C14:AG14, "F") -> 0 | AJ14: =COUNTIF(C14:AG14, "R") -> 0 | AK14: =COUNTIF(C14:AG14, "J") -> 0
A15: 11 | B15: ='Resumen Anual'!B14 -> Nombre del Alumno | AH15: =COUNTIF(C15:AG15, "A") -> 0 | AI15: =COUNTIF(C15:AG15, "F") -> 0 | AJ15: =COUNTIF(C15:AG15, "R") -> 0 | AK15: =COUNTIF(C15:AG15, "J") -> 0
A16: 12 | B16: ='Resumen Anual'!B15 -> Nombre del Alumno | AH16: =COUNTIF(C16:AG16, "A") -> 0 | AI16: =COUNTIF(C16:AG16, "F") -> 0 | AJ16: =COUNTIF(C16:AG16, "R") -> 0 | AK16: =COUNTIF(C16:AG16, "J") -> 0
... A39: 35 | B39: ='Resumen Anual'!B38 -> Nombre del Alumno 35 | AH39: =COUNTIF(C39:AG39, "A") -> 0 | AI39: =COUNTIF(C39:AG39, "F") -> 0 | AJ39: =COUNTIF(C39:AG39, "R") -> 0 | AK39: =COUNTIF(C39:AG39, "J") -> 0
