Workbook

Sheet SEP
B1: COLOCA UNA X: PARA QUE CUENTE LAS INASISTENCIAS
B3: Nombre de la escuela:
B5: MES: | C5: SEPTIEMBRE | D5: REGISTRO DE ASISTENCIA
B6: AÑO: | C6: 2025
B7: NO. | C7: NOMBRE Y APELLIDO | D7: 1 | E7: 2 | F7: 3 | G7: 4 | H7: 5 | I7: 8 | J7: 9 | K7: 10 | L7: 11 | M7: 12 | N7: 15 | O7: 16 | P7: 17 | Q7: 18 | R7: 19 | S7: 22 | T7: 23 | U7: 24 | V7: 25 | W7: 26 | X7: 29 | Y7: 30 | AA7: INASISTENCIAS
B8: 1 | C8: José | AA8: =COUNTIF(D8:Z8, "x") -> 0
B9: 2 | AA9: =COUNTIF(D9:Z9, "x") -> 0
B10: 3 | AA10: =COUNTIF(D10:Z10, "x") -> 0
B11: 4 | AA11: =COUNTIF(D11:Z11, "x") -> 0
B12: 5 | AA12: =COUNTIF(D12:Z12, "x") -> 0
B13: 6 | AA13: =COUNTIF(D13:Z13, "x") -> 0
B14: 7 | AA14: =COUNTIF(D14:Z14, "x") -> 0
B15: 8 | AA15: =COUNTIF(D15:Z15, "x") -> 0
B16: 9 | AA16: =COUNTIF(D16:Z16, "x") -> 0
B17: 10 | AA17: =COUNTIF(D17:Z17, "x") -> 0
B18: 11 | AA18: =COUNTIF(D18:Z18, "x") -> 0
B19: 12 | AA19: =COUNTIF(D19:Z19, "x") -> 0
B20: 13 | AA20: =COUNTIF(D20:Z20, "x") -> 0
... B25: 18 | AA25: =COUNTIF(D25:Z25, "x") -> 0
A26: 5TO | B26: 19 | AA26: =COUNTIF(D26:Z26, "x") -> 0
B27: 20 | AA27: =COUNTIF(D27:Z27, "x") -> 0
B28: 21 | AA28: =COUNTIF(D28:Z28, "x") -> 0
B29: 22 | AA29: =COUNTIF(D29:Z29, "x") -> 0
B30: 23 | AA30: =COUNTIF(D30:Z30, "x") -> 0
B31: 24 | AA31: =COUNTIF(D31:Z31, "x") -> 0
B32: 25 | AA32: =COUNTIF(D32:Z32, "x") -> 0
B33: 26 | AA33: =COUNTIF(D33:Z33, "x") -> 0
B34: 27 | AA34: =COUNTIF(D34:Z34, "x") -> 0
B35: 28 | AA35: =COUNTIF(D35:Z35, "x") -> 0
B36: 29 | AA36: =COUNTIF(D36:Z36, "x") -> 0
B37: 30 | AA37: =COUNTIF(D37:Z37, "x") -> 0
B38: 31 | AA38: =COUNTIF(D38:Z38, "x") -> 0
... B40: 33 | AA40: =COUNTIF(D40:Z40, "x") -> 0
B43: OBSERVACIONES
B44: www.elproferema.com

Sheet OCT
B1: COLOCA UNA X: PARA QUE CUENTE LAS INASISTENCIAS
B3: Nombre de la escuela: =
B5: MES: | C5: OCTUBRE | D5: REGISTRO DE ASISTENCIA
B6: AÑO: | C6: 2025
B7: NO. | C7: NOMBRE Y APELLIDO | D7: 1 | E7: 2 | F7: 3 | G7: 6 | H7: 7 | I7: 8 | J7: 9 | K7: 10 | L7: 13 | M7: 14 | N7: 15 | O7: 16 | P7: 17 | Q7: 20 | R7: 21 | S7: 22 | T7: 23 | U7: 24 | V7: 27 | W7: 28 | X7: 29 | Y7: 30 | Z7: 31 | AA7: INASISTENCIAS
B8: 1 | C8: =SEP!C8 -> José | AA8: =COUNTIF(D8:Z8, "x") -> 0
B9: 2 | C9: =SEP!C9 -> 0 | AA9: =COUNTIF(D9:Z9, "x") -> 0
B10: 3 | C10: =SEP!C10 -> 0 | AA10: =COUNTIF(D10:Z10, "x") -> 0
B11: 4 | C11: =SEP!C11 -> 0 | AA11: =COUNTIF(D11:Z11, "x") -> 0
B12: 5 | C12: =SEP!C12 -> 0 | AA12: =COUNTIF(D12:Z12, "x") -> 0
B13: 6 | C13: =SEP!C13 -> 0 | AA13: =COUNTIF(D13:Z13, "x") -> 0
B14: 7 | C14: =SEP!C14 -> 0 | AA14: =COUNTIF(D14:Z14, "x") -> 0
B15: 8 | C15: =SEP!C15 -> 0 | AA15: =COUNTIF(D15:Z15, "x") -> 0
B16: 9 | C16: =SEP!C16 -> 0 | AA16: =COUNTIF(D16:Z16, "x") -> 0
B17: 10 | C17: =SEP!C17 -> 0 | AA17: =COUNTIF(D17:Z17, "x") -> 0
B18: 11 | C18: =SEP!C18 -> 0 | AA18: =COUNTIF(D18:Z18, "x") -> 0
B19: 12 | C19: =SEP!C19 -> 0 | AA19: =COUNTIF(D19:Z19, "x") -> 0
... B25: 18 | C25: =SEP!C25 -> 0 | AA25: =COUNTIF(D25:Z25, "x") -> 0
A26: 5TO | B26: 19 | C26: =SEP!C26 -> 0 | AA26: =COUNTIF(D26:Z26, "x") -> 0
B27: 20 | C27: =SEP!C27 -> 0 | AA27: =COUNTIF(D27:Z27, "x") -> 0
B28: 21 | C28: =SEP!C28 -> 0 | AA28: =COUNTIF(D28:Z28, "x") -> 0
B29: 22 | C29: =SEP!C29 -> 0 | AA29: =COUNTIF(D29:Z29, "x") -> 0
B30: 23 | C30: =SEP!C30 -> 0 | AA30: =COUNTIF(D30:Z30, "x") -> 0
B31: 24 | C31: =SEP!C31 -> 0 | AA31: =COUNTIF(D31:Z31, "x") -> 0
B32: 25 | C32: =SEP!C32 -> 0 | AA32: =COUNTIF(D32:Z32, "x") -> 0
B33: 26 | C33: =SEP!C33 -> 0 | AA33: =COUNTIF(D33:Z33, "x") -> 0
B34: 27 | C34: =SEP!C34 -> 0 | AA34: =COUNTIF(D34:Z34, "x") -> 0
B35: 28 | C35: =SEP!C35 -> 0 | AA35: =COUNTIF(D35:Z35, "x") -> 0
B36: 29 | C36: =SEP!C36 -> 0 | AA36: =COUNTIF(D36:Z36, "x") -> 0
B37: 30 | C37: =SEP!C37 -> 0 | AA37: =COUNTIF(D37:Z37, "x") -> 0
B38: 31 | C38: =SEP!C38 -> 0 | AA38: =COUNTIF(D38:Z38, "x") -> 0
... B40: 33 | C40: =SEP!C40 -> 0 | AA40: =COUNTIF(D40:Z40, "x") -> 0
B43: OBSERVACIONES
B44: www.elproferema.com

Sheet NOV
B1: COLOCA UNA X: PARA QUE CUENTE LAS INASISTENCIAS
B3: Nombre de la escuela:
B5: MES: | C5: NOVIEMBRE | D5: REGISTRO DE ASISTENCIA
B6: AÑO: | C6: 2025
B7: NO. | C7: NOMBRE Y APELLIDO | D7: 3 | E7: 4 | F7: 5 | G7: 6 | H7: 7 | I7: 10 | J7: 11 | K7: 12 | L7: 13 | M7: 14 | N7: 17 | O7: 18 | P7: 19 | Q7: 20 | R7: 21 | S7: 24 | T7: 25 | U7: 26 | V7: 27 | W7: 28 | AA7: INASISTENCIAS
B8: 1 | C8: =SEP!C8 -> José | AA8: =COUNTIF(D8:Z8, "x") -> 0
B9: 2 | C9: =SEP!C9 -> 0 | AA9: =COUNTIF(D9:Z9, "x") -> 0
B10: 3 | C10: =SEP!C10 -> 0 | AA10: =COUNTIF(D10:Z10, "x") -> 0
B11: 4 | C11: =SEP!C11 -> 0 | AA11: =COUNTIF(D11:Z11, "x") -> 0
B12: 5 | C12: =SEP!C12 -> 0 | AA12: =COUNTIF(D12:Z12, "x") -> 0
B13: 6 | C13: =SEP!C13 -> 0 | AA13: =COUNTIF(D13:Z13, "x") -> 0
B14: 7 | C14: =SEP!C14 -> 0 | AA14: =COUNTIF(D14:Z14, "x") -> 0
B15: 8 | C15: =SEP!C15 -> 0 | AA15: =COUNTIF(D15:Z15, "x") -> 0
B16: 9 | C16: =SEP!C16 -> 0 | AA16: =COUNTIF(D16:Z16, "x") -> 0
B17: 10 | C17: =SEP!C17 -> 0 | AA17: =COUNTIF(D17:Z17, "x") -> 0
B18: 11 | C18: =SEP!C18 -> 0 | AA18: =COUNTIF(D18:Z18, "x") -> 0
B19: 12 | C19: =SEP!C19 -> 0 | AA19: =COUNTIF(D19:Z19, "x") -> 0
... B25: 18 | C25: =SEP!C25 -> 0 | AA25: =COUNTIF(D25:Z25, "x") -> 0
A26: 5TO | B26: 19 | C26: =SEP!C26 -> 0 | AA26: =COUNTIF(D26:Z26, "x") -> 0
B27: 20 | C27: =SEP!C27 -> 0 | AA27: =COUNTIF(D27:Z27, "x") -> 0
B28: 21 | C28: =SEP!C28 -> 0 | AA28: =COUNTIF(D28:Z28, "x") -> 0
B29: 22 | C29: =SEP!C29 -> 0 | AA29: =COUNTIF(D29:Z29, "x") -> 0
B30: 23 | C30: =SEP!C30 -> 0 | AA30: =COUNTIF(D30:Z30, "x") -> 0
B31: 24 | C31: =SEP!C31 -> 0 | AA31: =COUNTIF(D31:Z31, "x") -> 0
B32: 25 | C32: =SEP!C32 -> 0 | AA32: =COUNTIF(D32:Z32, "x") -> 0
B33: 26 | C33: =SEP!C33 -> 0 | AA33: =COUNTIF(D33:Z33, "x") -> 0
B34: 27 | C34: =SEP!C34 -> 0 | AA34: =COUNTIF(D34:Z34, "x") -> 0
B35: 28 | C35: =SEP!C35 -> 0 | AA35: =COUNTIF(D35:Z35, "x") -> 0
B36: 29 | C36: =SEP!C36 -> 0 | AA36: =COUNTIF(D36:Z36, "x") -> 0
B37: 30 | C37: =SEP!C37 -> 0 | AA37: =COUNTIF(D37:Z37, "x") -> 0
B38: 31 | C38: =SEP!C38 -> 0 | AA38: =COUNTIF(D38:Z38, "x") -> 0
... B40: 33 | C40: =SEP!C40 -> 0 | AA40: =COUNTIF(D40:Z40, "x") -> 0
B43: OBSERVACIONES
B44: www.elproferema.com

Sheet DIC
B1: COLOCA UNA X: PARA QUE CUENTE LAS INASISTENCIAS
B3: Nombre de la escuela:
B5: MES: | C5: DICIEMBRE | D5: REGISTRO DE ASISTENCIA
B6: AÑO: | C6: 2025
B7: NO. | C7: NOMBRE Y APELLIDO | D7: 1 | E7: 2 | F7: 3 | G7: 4 | H7: 5 | I7: 8 | J7: 9 | K7: 10 | L7: 11 | M7: 12 | N7: 15 | O7: 16 | P7: 17 | Q7: 18 | R7: 19 | AA7: INASISTENCIAS
B8: 1 | C8: =SEP!C8 -> José | AA8: =COUNTIF(D8:Z8, "x") -> 0
B9: 2 | C9: =SEP!C9 -> 0 | AA9: =COUNTIF(D9:Z9, "x") -> 0
B10: 3 | C10: =SEP!C10 -> 0 | AA10: =COUNTIF(D10:Z10, "x") -> 0
B11: 4 | C11: =SEP!C11 -> 0 | AA11: =COUNTIF(D11:Z11, "x") -> 0
B12: 5 | C12: =SEP!C12 -> 0 | AA12: =COUNTIF(D12:Z12, "x") -> 0
B13: 6 | C13: =SEP!C13 -> 0 | AA13: =COUNTIF(D13:Z13, "x") -> 0
B14: 7 | C14: =SEP!C14 -> 0 | AA14: =COUNTIF(D14:Z14, "x") -> 0
B15: 8 | C15: =SEP!C15 -> 0 | AA15: =COUNTIF(D15:Z15, "x") -> 0
B16: 9 | C16: =SEP!C16 -> 0 | AA16: =COUNTIF(D16:Z16, "x") -> 0
B17: 10 | C17: =SEP!C17 -> 0 | AA17: =COUNTIF(D17:Z17, "x") -> 0
B18: 11 | C18: =SEP!C18 -> 0 | AA18: =COUNTIF(D18:Z18, "x") -> 0
B19: 12 | C19: =SEP!C19 -> 0 | AA19: =COUNTIF(D19:Z19, "x") -> 0
... B25: 18 | C25: =SEP!C25 -> 0 | AA25: =COUNTIF(D25:Z25, "x") -> 0
A26: 5TO | B26: 19 | C26: =SEP!C26 -> 0 | AA26: =COUNTIF(D26:Z26, "x") -> 0
B27: 20 | C27: =SEP!C27 -> 0 | AA27: =COUNTIF(D27:Z27, "x") -> 0
B28: 21 | C28: =SEP!C28 -> 0 | AA28: =COUNTIF(D28:Z28, "x") -> 0
B29: 22 | C29: =SEP!C29 -> 0 | AA29: =COUNTIF(D29:Z29, "x") -> 0
B30: 23 | C30: =SEP!C30 -> 0 | AA30: =COUNTIF(D30:Z30, "x") -> 0
B31: 24 | C31: =SEP!C31 -> 0 | AA31: =COUNTIF(D31:Z31, "x") -> 0
B32: 25 | C32: =SEP!C32 -> 0 | AA32: =COUNTIF(D32:Z32, "x") -> 0
B33: 26 | C33: =SEP!C33 -> 0 | AA33: =COUNTIF(D33:Z33, "x") -> 0
B34: 27 | C34: =SEP!C34 -> 0 | AA34: =COUNTIF(D34:Z34, "x") -> 0
B35: 28 | C35: =SEP!C35 -> 0 | AA35: =COUNTIF(D35:Z35, "x") -> 0
B36: 29 | C36: =SEP!C36 -> 0 | AA36: =COUNTIF(D36:Z36, "x") -> 0
B37: 30 | C37: =SEP!C37 -> 0 | AA37: =COUNTIF(D37:Z37, "x") -> 0
B38: 31 | C38: =SEP!C38 -> 0 | AA38: =COUNTIF(D38:Z38, "x") -> 0
... B40: 33 | C40: =SEP!C40 -> 0 | AA40: =COUNTIF(D40:Z40, "x") -> 0
B43: OBSERVACIONES
B44: www.elproferema.com

Sheet ENE
B1: COLOCA UNA X: PARA QUE CUENTE LAS INASISTENCIAS
B3: Nombre de la escuela:
B5: MES: | C5: ENERO | D5: REGISTRO DE ASISTENCIA
B6: AÑO: | C6: 2025
B7: NO. | C7: NOMBRE Y APELLIDO | D7: 12 | E7: 13 | F7: 14 | G7: 15 | H7: 16 | I7: 19 | J7: 20 | K7: 21 | L7: 22 | M7: 23 | N7: 26 | O7: 27 | P7: 28 | Q7: 29 | R7: 30 | AA7: INASISTENCIAS
B8: 1 | C8: =SEP!C8 -> José | AA8: =COUNTIF(D8:Z8, "x") -> 0
B9: 2 | C9: =SEP!C9 -> 0 | AA9: =COUNTIF(D9:Z9, "x") -> 0
B10: 3 | C10: =SEP!C10 -> 0 | AA10: =COUNTIF(D10:Z10, "x") -> 0
B11: 4 | C11: =SEP!C11 -> 0 | AA11: =COUNTIF(D11:Z11, "x") -> 0
B12: 5 | C12: =SEP!C12 -> 0 | AA12: =COUNTIF(D12:Z12, "x") -> 0
B13: 6 | C13: =SEP!C13 -> 0 | AA13: =COUNTIF(D13:Z13, "x") -> 0
B14: 7 | C14: =SEP!C14 -> 0 | AA14: =COUNTIF(D14:Z14, "x") -> 0
B15: 8 | C15: =SEP!C15 -> 0 | AA15: =COUNTIF(D15:Z15, "x") -> 0
B16: 9 | C16: =SEP!C16 -> 0 | AA16: =COUNTIF(D16:Z16, "x") -> 0
B17: 10 | C17: =SEP!C17 -> 0 | AA17: =COUNTIF(D17:Z17, "x") -> 0
B18: 11 | C18: =SEP!C18 -> 0 | AA18: =COUNTIF(D18:Z18, "x") -> 0
B19: 12 | C19: =SEP!C19 -> 0 | AA19: =COUNTIF(D19:Z19, "x") -> 0
... B25: 18 | C25: =SEP!C25 -> 0 | AA25: =COUNTIF(D25:Z25, "x") -> 0
A26: 5TO | B26: 19 | C26: =SEP!C26 -> 0 | AA26: =COUNTIF(D26:Z26, "x") -> 0
B27: 20 | C27: =SEP!C27 -> 0 | AA27: =COUNTIF(D27:Z27, "x") -> 0
B28: 21 | C28: =SEP!C28 -> 0 | AA28: =COUNTIF(D28:Z28, "x") -> 0
B29: 22 | C29: =SEP!C29 -> 0 | AA29: =COUNTIF(D29:Z29, "x") -> 0
B30: 23 | C30: =SEP!C30 -> 0 | AA30: =COUNTIF(D30:Z30, "x") -> 0
B31: 24 | C31: =SEP!C31 -> 0 | AA31: =COUNTIF(D31:Z31, "x") -> 0
B32: 25 | C32: =SEP!C32 -> 0 | AA32: =COUNTIF(D32:Z32, "x") -> 0
B33: 26 | C33: =SEP!C33 -> 0 | AA33: =COUNTIF(D33:Z33, "x") -> 0
B34: 27 | C34: =SEP!C34 -> 0 | AA34: =COUNTIF(D34:Z34, "x") -> 0
B35: 28 | C35: =SEP!C35 -> 0 | AA35: =COUNTIF(D35:Z35, "x") -> 0
B36: 29 | C36: =SEP!C36 -> 0 | AA36: =COUNTIF(D36:Z36, "x") -> 0
B37: 30 | C37: =SEP!C37 -> 0 | AA37: =COUNTIF(D37:Z37, "x") -> 0
B38: 31 | C38: =SEP!C38 -> 0 | AA38: =COUNTIF(D38:Z38, "x") -> 0
... B40: 33 | C40: =SEP!C40 -> 0 | AA40: =COUNTIF(D40:Z40, "x") -> 0
B43: OBSERVACIONES
B44: www.elproferema.com

Sheet FEB
B1: COLOCA UNA X: PARA QUE CUENTE LAS INASISTENCIAS
B3: Nombre de la escuela:
B5: MES: | C5: FEBRERO | D5: REGISTRO DE ASISTENCIA
B6: AÑO: | C6: 2025
B7: NO. | C7: NOMBRE Y APELLIDO | D7: 2 | E7: 3 | F7: 4 | G7: 5 | H7: 6 | I7: 9 | J7: 10 | K7: 11 | L7: 12 | M7: 13 | N7: 16 | O7: 17 | P7: 18 | Q7: 19 | R7: 20 | S7: 23 | T7: 24 | U7: 25 | V7: 26 | W7: 27 | AA7: INASISTENCIAS
B8: 1 | C8: =SEP!C8 -> José | AA8: =COUNTIF(D8:Z8, "x") -> 0
B9: 2 | C9: =SEP!C9 -> 0 | AA9: =COUNTIF(D9:Z9, "x") -> 0
B10: 3 | C10: =SEP!C10 -> 0 | AA10: =COUNTIF(D10:Z10, "x") -> 0
B11: 4 | C11: =SEP!C11 -> 0 | AA11: =COUNTIF(D11:Z11, "x") -> 0
B12: 5 | C12: =SEP!C12 -> 0 | AA12: =COUNTIF(D12:Z12, "x") -> 0
B13: 6 | C13: =SEP!C13 -> 0 | AA13: =COUNTIF(D13:Z13, "x") -> 0
B14: 7 | C14: =SEP!C14 -> 0 | AA14: =COUNTIF(D14:Z14, "x") -> 0
B15: 8 | C15: =SEP!C15 -> 0 | AA15: =COUNTIF(D15:Z15, "x") -> 0
B16: 9 | C16: =SEP!C16 -> 0 | AA16: =COUNTIF(D16:Z16, "x") -> 0
B17: 10 | C17: =SEP!C17 -> 0 | AA17: =COUNTIF(D17:Z17, "x") -> 0
B18: 11 | C18: =SEP!C18 -> 0 | AA18: =COUNTIF(D18:Z18, "x") -> 0
B19: 12 | C19: =SEP!C19 -> 0 | AA19: =COUNTIF(D19:Z19, "x") -> 0
... B25: 18 | C25: =SEP!C25 -> 0 | AA25: =COUNTIF(D25:Z25, "x") -> 0
A26: 5TO | B26: 19 | C26: =SEP!C26 -> 0 | AA26: =COUNTIF(D26:Z26, "x") -> 0
B27: 20 | C27: =SEP!C27 -> 0 | AA27: =COUNTIF(D27:Z27, "x") -> 0
B28: 21 | C28: =SEP!C28 -> 0 | AA28: =COUNTIF(D28:Z28, "x") -> 0
B29: 22 | C29: =SEP!C29 -> 0 | AA29: =COUNTIF(D29:Z29, "x") -> 0
B30: 23 | C30: =SEP!C30 -> 0 | AA30: =COUNTIF(D30:Z30, "x") -> 0
B31: 24 | C31: =SEP!C31 -> 0 | AA31: =COUNTIF(D31:Z31, "x") -> 0
B32: 25 | C32: =SEP!C32 -> 0 | AA32: =COUNTIF(D32:Z32, "x") -> 0
B33: 26 | C33: =SEP!C33 -> 0 | AA33: =COUNTIF(D33:Z33, "x") -> 0
B34: 27 | C34: =SEP!C34 -> 0 | AA34: =COUNTIF(D34:Z34, "x") -> 0
B35: 28 | C35: =SEP!C35 -> 0 | AA35: =COUNTIF(D35:Z35, "x") -> 0
B36: 29 | C36: =SEP!C36 -> 0 | AA36: =COUNTIF(D36:Z36, "x") -> 0
B37: 30 | C37: =SEP!C37 -> 0 | AA37: =COUNTIF(D37:Z37, "x") -> 0
B38: 31 | C38: =SEP!C38 -> 0 | AA38: =COUNTIF(D38:Z38, "x") -> 0
... B40: 33 | C40: =SEP!C40 -> 0 | AA40: =COUNTIF(D40:Z40, "x") -> 0
B43: OBSERVACIONES
B44: www.elproferema.com

Sheet MAR
B1: COLOCA UNA X: PARA QUE CUENTE LAS INASISTENCIAS
B3: Nombre de la escuela:
B5: MES: | C5: MARZO | D5: REGISTRO DE ASISTENCIA
B6: AÑO: | C6: 2025
B7: NO. | C7: NOMBRE Y APELLIDO | D7: 2 | E7: 3 | F7: 4 | G7: 5 | H7: 6 | I7: 9 | J7: 10 | K7: 11 | L7: 12 | M7: 13 | N7: 16 | O7: 17 | P7: 18 | Q7: 19 | R7: 20 | S7: 23 | T7: 24 | U7: 25 | V7: 26 | W7: 27 | X7: 30 | Y7: 31 | AA7: INASISTENCIAS
B8: 1 | C8: =SEP!C8 -> José | AA8: =COUNTIF(D8:Z8, "x") -> 0
B9: 2 | C9: =SEP!C9 -> 0 | AA9: =COUNTIF(D9:Z9, "x") -> 0
B10: 3 | C10: =SEP!C10 -> 0 | AA10: =COUNTIF(D10:Z10, "x") -> 0
B11: 4 | C11: =SEP!C11 -> 0 | AA11: =COUNTIF(D11:Z11, "x") -> 0
B12: 5 | C12: =SEP!C12 -> 0 | AA12: =COUNTIF(D12:Z12, "x") -> 0
B13: 6 | C13: =SEP!C13 -> 0 | AA13: =COUNTIF(D13:Z13, "x") -> 0
B14: 7 | C14: =SEP!C14 -> 0 | AA14: =COUNTIF(D14:Z14, "x") -> 0
B15: 8 | C15: =SEP!C15 -> 0 | AA15: =COUNTIF(D15:Z15, "x") -> 0
B16: 9 | C16: =SEP!C16 -> 0 | AA16: =COUNTIF(D16:Z16, "x") -> 0
B17: 10 | C17: =SEP!C17 -> 0 | AA17: =COUNTIF(D17:Z17, "x") -> 0
B18: 11 | C18: =SEP!C18 -> 0 | AA18: =COUNTIF(D18:Z18, "x") -> 0
B19: 12 | C19: =SEP!C19 -> 0 | AA19: =COUNTIF(D19:Z19, "x") -> 0
... B25: 18 | C25: =SEP!C25 -> 0 | AA25: =COUNTIF(D25:Z25, "x") -> 0
A26: 5TO | B26: 19 | C26: =SEP!C26 -> 0 | AA26: =COUNTIF(D26:Z26, "x") -> 0
B27: 20 | C27: =SEP!C27 -> 0 | AA27: =COUNTIF(D27:Z27, "x") -> 0
B28: 21 | C28: =SEP!C28 -> 0 | AA28: =COUNTIF(D28:Z28, "x") -> 0
B29: 22 | C29: =SEP!C29 -> 0 | AA29: =COUNTIF(D29:Z29, "x") -> 0
B30: 23 | C30: =SEP!C30 -> 0 | AA30: =COUNTIF(D30:Z30, "x") -> 0
B31: 24 | C31: =SEP!C31 -> 0 | AA31: =COUNTIF(D31:Z31, "x") -> 0
B32: 25 | C32: =SEP!C32 -> 0 | AA32: =COUNTIF(D32:Z32, "x") -> 0
B33: 26 | C33: =SEP!C33 -> 0 | AA33: =COUNTIF(D33:Z33, "x") -> 0
B34: 27 | C34: =SEP!C34 -> 0 | AA34: =COUNTIF(D34:Z34, "x") -> 0
B35: 28 | C35: =SEP!C35 -> 0 | AA35: =COUNTIF(D35:Z35, "x") -> 0
B36: 29 | C36: =SEP!C36 -> 0 | AA36: =COUNTIF(D36:Z36, "x") -> 0
B37: 30 | C37: =SEP!C37 -> 0 | AA37: =COUNTIF(D37:Z37, "x") -> 0
B38: 31 | C38: =SEP!C38 -> 0 | AA38: =COUNTIF(D38:Z38, "x") -> 0
... B40: 33 | C40: =SEP!C40 -> 0 | AA40: =COUNTIF(D40:Z40, "x") -> 0
B43: OBSERVACIONES
B44: www.elproferema.com

Sheet ABR
B1: COLOCA UNA X: PARA QUE CUENTE LAS INASISTENCIAS
B3: Nombre de la escuela:
B5: MES: | C5: ABRIL | D5: REGISTRO DE ASISTENCIA
B6: AÑO: | C6: 2025
B7: NO. | C7: NOMBRE Y APELLIDO | D7: 1 | E7: 2 | F7: 3 | G7: 6 | H7: 7 | I7: 8 | J7: 9 | K7: 10 | L7: 13 | M7: 14 | N7: 15 | O7: 16 | P7: 17 | Q7: 20 | R7: 21 | S7: 22 | T7: 23 | U7: 24 | V7: 27 | W7: 28 | X7: 29 | Y7: 30 | AA7: INASISTENCIAS
B8: 1 | C8: =SEP!C8 -> José | AA8: =COUNTIF(D8:Z8, "x") -> 0
B9: 2 | C9: =SEP!C9 -> 0 | AA9: =COUNTIF(D9:Z9, "x") -> 0
B10: 3 | C10: =SEP!C10 -> 0 | AA10: =COUNTIF(D10:Z10, "x") -> 0
B11: 4 | C11: =SEP!C11 -> 0 | AA11: =COUNTIF(D11:Z11, "x") -> 0
B12: 5 | C12: =SEP!C12 -> 0 | AA12: =COUNTIF(D12:Z12, "x") -> 0
B13: 6 | C13: =SEP!C13 -> 0 | AA13: =COUNTIF(D13:Z13, "x") -> 0
B14: 7 | C14: =SEP!C14 -> 0 | AA14: =COUNTIF(D14:Z14, "x") -> 0
B15: 8 | C15: =SEP!C15 -> 0 | AA15: =COUNTIF(D15:Z15, "x") -> 0
B16: 9 | C16: =SEP!C16 -> 0 | AA16: =COUNTIF(D16:Z16, "x") -> 0
B17: 10 | C17: =SEP!C17 -> 0 | AA17: =COUNTIF(D17:Z17, "x") -> 0
B18: 11 | C18: =SEP!C18 -> 0 | AA18: =COUNTIF(D18:Z18, "x") -> 0
B19: 12 | C19: =SEP!C19 -> 0 | AA19: =COUNTIF(D19:Z19, "x") -> 0
... B25: 18 | C25: =SEP!C25 -> 0 | AA25: =COUNTIF(D25:Z25, "x") -> 0
A26: 5TO | B26: 19 | C26: =SEP!C26 -> 0 | AA26: =COUNTIF(D26:Z26, "x") -> 0
B27: 20 | C27: =SEP!C27 -> 0 | AA27: =COUNTIF(D27:Z27, "x") -> 0
B28: 21 | C28: =SEP!C28 -> 0 | AA28: =COUNTIF(D28:Z28, "x") -> 0
B29: 22 | C29: =SEP!C29 -> 0 | AA29: =COUNTIF(D29:Z29, "x") -> 0
B30: 23 | C30: =SEP!C30 -> 0 | AA30: =COUNTIF(D30:Z30, "x") -> 0
B31: 24 | C31: =SEP!C31 -> 0 | AA31: =COUNTIF(D31:Z31, "x") -> 0
B32: 25 | C32: =SEP!C32 -> 0 | AA32: =COUNTIF(D32:Z32, "x") -> 0
B33: 26 | C33: =SEP!C33 -> 0 | AA33: =COUNTIF(D33:Z33, "x") -> 0
B34: 27 | C34: =SEP!C34 -> 0 | AA34: =COUNTIF(D34:Z34, "x") -> 0
B35: 28 | C35: =SEP!C35 -> 0 | AA35: =COUNTIF(D35:Z35, "x") -> 0
B36: 29 | C36: =SEP!C36 -> 0 | AA36: =COUNTIF(D36:Z36, "x") -> 0
B37: 30 | C37: =SEP!C37 -> 0 | AA37: =COUNTIF(D37:Z37, "x") -> 0
B38: 31 | C38: =SEP!C38 -> 0 | AA38: =COUNTIF(D38:Z38, "x") -> 0
... B40: 33 | C40: =SEP!C40 -> 0 | AA40: =COUNTIF(D40:Z40, "x") -> 0
B43: OBSERVACIONES
B44: www.elproferema.com

Sheet MAY
B1: COLOCA UNA X: PARA QUE CUENTE LAS INASISTENCIAS
B3: Nombre de la escuela:
B5: MES: | C5: MAYO | D5: REGISTRO DE ASISTENCIA
B6: AÑO: | C6: 2025
B7: NO. | C7: NOMBRE Y APELLIDO | D7: 1 | E7: 4 | F7: 5 | G7: 6 | H7: 7 | I7: 8 | J7: 11 | K7: 12 | L7: 13 | M7: 14 | N7: 15 | O7: 18 | P7: 19 | Q7: 20 | R7: 21 | S7: 22 | T7: 25 | U7: 26 | V7: 27 | W7: 28 | X7: 29 | AA7: INASISTENCIAS
B8: 1 | C8: =SEP!C8 -> José | AA8: =COUNTIF(D8:Z8, "x") -> 0
B9: 2 | C9: =SEP!C9 -> 0 | AA9: =COUNTIF(D9:Z9, "x") -> 0
B10: 3 | C10: =SEP!C10 -> 0 | AA10: =COUNTIF(D10:Z10, "x") -> 0
B11: 4 | C11: =SEP!C11 -> 0 | AA11: =COUNTIF(D11:Z11, "x") -> 0
B12: 5 | C12: =SEP!C12 -> 0 | AA12: =COUNTIF(D12:Z12, "x") -> 0
B13: 6 | C13: =SEP!C13 -> 0 | AA13: =COUNTIF(D13:Z13, "x") -> 0
B14: 7 | C14: =SEP!C14 -> 0 | AA14: =COUNTIF(D14:Z14, "x") -> 0
B15: 8 | C15: =SEP!C15 -> 0 | AA15: =COUNTIF(D15:Z15, "x") -> 0
B16: 9 | C16: =SEP!C16 -> 0 | AA16: =COUNTIF(D16:Z16, "x") -> 0
B17: 10 | C17: =SEP!C17 -> 0 | AA17: =COUNTIF(D17:Z17, "x") -> 0
B18: 11 | C18: =SEP!C18 -> 0 | AA18: =COUNTIF(D18:Z18, "x") -> 0
B19: 12 | C19: =SEP!C19 -> 0 | AA19: =COUNTIF(D19:Z19, "x") -> 0
... B25: 18 | C25: =SEP!C25 -> 0 | AA25: =COUNTIF(D25:Z25, "x") -> 0
A26: 5TO | B26: 19 | C26: =SEP!C26 -> 0 | AA26: =COUNTIF(D26:Z26, "x") -> 0
B27: 20 | C27: =SEP!C27 -> 0 | AA27: =COUNTIF(D27:Z27, "x") -> 0
B28: 21 | C28: =SEP!C28 -> 0 | AA28: =COUNTIF(D28:Z28, "x") -> 0
B29: 22 | C29: =SEP!C29 -> 0 | AA29: =COUNTIF(D29:Z29, "x") -> 0
B30: 23 | C30: =SEP!C30 -> 0 | AA30: =COUNTIF(D30:Z30, "x") -> 0
B31: 24 | C31: =SEP!C31 -> 0 | AA31: =COUNTIF(D31:Z31, "x") -> 0
B32: 25 | C32: =SEP!C32 -> 0 | AA32: =COUNTIF(D32:Z32, "x") -> 0
B33: 26 | C33: =SEP!C33 -> 0 | AA33: =COUNTIF(D33:Z33, "x") -> 0
B34: 27 | C34: =SEP!C34 -> 0 | AA34: =COUNTIF(D34:Z34, "x") -> 0
B35: 28 | C35: =SEP!C35 -> 0 | AA35: =COUNTIF(D35:Z35, "x") -> 0
B36: 29 | C36: =SEP!C36 -> 0 | AA36: =COUNTIF(D36:Z36, "x") -> 0
B37: 30 | C37: =SEP!C37 -> 0 | AA37: =COUNTIF(D37:Z37, "x") -> 0
B38: 31 | C38: =SEP!C38 -> 0 | AA38: =COUNTIF(D38:Z38, "x") -> 0
... B40: 33 | C40: =SEP!C40 -> 0 | AA40: =COUNTIF(D40:Z40, "x") -> 0
B43: OBSERVACIONES
B44: www.elproferema.com

Sheet JUN
B1: COLOCA UNA X: PARA QUE CUENTE LAS INASISTENCIAS
B3: Nombre de la escuela:
B5: MES: | C5: JUNIO | D5: REGISTRO DE ASISTENCIA
B6: AÑO: | C6: 2025
B7: NO. | C7: NOMBRE Y APELLIDO | D7: 1 | E7: 2 | F7: 3 | G7: 4 | H7: 5 | I7: 8 | J7: 9 | K7: 10 | L7: 11 | M7: 12 | N7: 15 | O7: 16 | P7: 17 | Q7: 18 | R7: 19 | S7: 22 | T7: 23 | U7: 24 | V7: 25 | W7: 26 | X7: 29 | Y7: 30 | AA7: INASISTENCIAS
B8: 1 | C8: =SEP!C8 -> José | AA8: =COUNTIF(D8:Z8, "x") -> 0
B9: 2 | C9: =SEP!C9 -> 0 | AA9: =COUNTIF(D9:Z9, "x") -> 0
B10: 3 | C10: =SEP!C10 -> 0 | AA10: =COUNTIF(D10:Z10, "x") -> 0
B11: 4 | C11: =SEP!C11 -> 0 | AA11: =COUNTIF(D11:Z11, "x") -> 0
B12: 5 | C12: =SEP!C12 -> 0 | AA12: =COUNTIF(D12:Z12, "x") -> 0
B13: 6 | C13: =SEP!C13 -> 0 | AA13: =COUNTIF(D13:Z13, "x") -> 0
B14: 7 | C14: =SEP!C14 -> 0 | AA14: =COUNTIF(D14:Z14, "x") -> 0
B15: 8 | C15: =SEP!C15 -> 0 | AA15: =COUNTIF(D15:Z15, "x") -> 0
B16: 9 | C16: =SEP!C16 -> 0 | AA16: =COUNTIF(D16:Z16, "x") -> 0
B17: 10 | C17: =SEP!C17 -> 0 | AA17: =COUNTIF(D17:Z17, "x") -> 0
B18: 11 | C18: =SEP!C18 -> 0 | AA18: =COUNTIF(D18:Z18, "x") -> 0
B19: 12 | C19: =SEP!C19 -> 0 | AA19: =COUNTIF(D19:Z19, "x") -> 0
... B25: 18 | C25: =SEP!C25 -> 0 | AA25: =COUNTIF(D25:Z25, "x") -> 0
A26: 5TO | B26: 19 | C26: =SEP!C26 -> 0 | AA26: =COUNTIF(D26:Z26, "x") -> 0
B27: 20 | C27: =SEP!C27 -> 0 | AA27: =COUNTIF(D27:Z27, "x") -> 0
B28: 21 | C28: =SEP!C28 -> 0 | AA28: =COUNTIF(D28:Z28, "x") -> 0
B29: 22 | C29: =SEP!C29 -> 0 | AA29: =COUNTIF(D29:Z29, "x") -> 0
B30: 23 | C30: =SEP!C30 -> 0 | AA30: =COUNTIF(D30:Z30, "x") -> 0
B31: 24 | C31: =SEP!C31 -> 0 | AA31: =COUNTIF(D31:Z31, "x") -> 0
B32: 25 | C32: =SEP!C32 -> 0 | AA32: =COUNTIF(D32:Z32, "x") -> 0
B33: 26 | C33: =SEP!C33 -> 0 | AA33: =COUNTIF(D33:Z33, "x") -> 0
B34: 27 | C34: =SEP!C34 -> 0 | AA34: =COUNTIF(D34:Z34, "x") -> 0
B35: 28 | C35: =SEP!C35 -> 0 | AA35: =COUNTIF(D35:Z35, "x") -> 0
B36: 29 | C36: =SEP!C36 -> 0 | AA36: =COUNTIF(D36:Z36, "x") -> 0
B37: 30 | C37: =SEP!C37 -> 0 | AA37: =COUNTIF(D37:Z37, "x") -> 0
B38: 31 | C38: =SEP!C38 -> 0 | AA38: =COUNTIF(D38:Z38, "x") -> 0
... B40: 33 | C40: =SEP!C40 -> 0 | AA40: =COUNTIF(D40:Z40, "x") -> 0
B43: OBSERVACIONES
B44: www.elproferema.com

Sheet JUL
B1: COLOCA UNA X: PARA QUE CUENTE LAS INASISTENCIAS
B3: Nombre de la escuela:
B5: MES: | C5: JULIO | D5: REGISTRO DE ASISTENCIA
B6: AÑO: | C6: 2025
B7: NO. | C7: NOMBRE Y APELLIDO | D7: 1 | E7: 2 | F7: 3 | G7: 6 | H7: 7 | I7: 8 | J7: 9 | K7: 10 | L7: 13 | M7: 14 | N7: 15 | O7: 16 | P7: 17 | Q7: 20 | AA7: INASISTENCIAS
B8: 1 | C8: =SEP!C8 -> José | AA8: =COUNTIF(D8:Z8, "x") -> 0
B9: 2 | C9: =SEP!C9 -> 0 | AA9: =COUNTIF(D9:Z9, "x") -> 0
B10: 3 | C10: =SEP!C10 -> 0 | AA10: =COUNTIF(D10:Z10, "x") -> 0
B11: 4 | C11: =SEP!C11 -> 0 | AA11: =COUNTIF(D11:Z11, "x") -> 0
B12: 5 | C12: =SEP!C12 -> 0 | AA12: =COUNTIF(D12:Z12, "x") -> 0
B13: 6 | C13: =SEP!C13 -> 0 | AA13: =COUNTIF(D13:Z13, "x") -> 0
B14: 7 | C14: =SEP!C14 -> 0 | AA14: =COUNTIF(D14:Z14, "x") -> 0
B15: 8 | C15: =SEP!C15 -> 0 | AA15: =COUNTIF(D15:Z15, "x") -> 0
B16: 9 | C16: =SEP!C16 -> 0 | AA16: =COUNTIF(D16:Z16, "x") -> 0
B17: 10 | C17: =SEP!C17 -> 0 | AA17: =COUNTIF(D17:Z17, "x") -> 0
B18: 11 | C18: =SEP!C18 -> 0 | AA18: =COUNTIF(D18:Z18, "x") -> 0
B19: 12 | C19: =SEP!C19 -> 0 | AA19: =COUNTIF(D19:Z19, "x") -> 0
... B25: 18 | C25: =SEP!C25 -> 0 | AA25: =COUNTIF(D25:Z25, "x") -> 0
A26: 5TO | B26: 19 | C26: =SEP!C26 -> 0 | AA26: =COUNTIF(D26:Z26, "x") -> 0
B27: 20 | C27: =SEP!C27 -> 0 | AA27: =COUNTIF(D27:Z27, "x") -> 0
B28: 21 | C28: =SEP!C28 -> 0 | AA28: =COUNTIF(D28:Z28, "x") -> 0
B29: 22 | C29: =SEP!C29 -> 0 | AA29: =COUNTIF(D29:Z29, "x") -> 0
B30: 23 | C30: =SEP!C30 -> 0 | AA30: =COUNTIF(D30:Z30, "x") -> 0
B31: 24 | C31: =SEP!C31 -> 0 | AA31: =COUNTIF(D31:Z31, "x") -> 0
B32: 25 | C32: =SEP!C32 -> 0 | AA32: =COUNTIF(D32:Z32, "x") -> 0
B33: 26 | C33: =SEP!C33 -> 0 | AA33: =COUNTIF(D33:Z33, "x") -> 0
B34: 27 | C34: =SEP!C34 -> 0 | AA34: =COUNTIF(D34:Z34, "x") -> 0
B35: 28 | C35: =SEP!C35 -> 0 | AA35: =COUNTIF(D35:Z35, "x") -> 0
B36: 29 | C36: =SEP!C36 -> 0 | AA36: =COUNTIF(D36:Z36, "x") -> 0
B37: 30 | C37: =SEP!C37 -> 0 | AA37: =COUNTIF(D37:Z37, "x") -> 0
B38: 31 | C38: =SEP!C38 -> 0 | AA38: =COUNTIF(D38:Z38, "x") -> 0
... B40: 33 | C40: =SEP!C40 -> 0 | AA40: =COUNTIF(D40:Z40, "x") -> 0
B43: OBSERVACIONES
B44: www.elproferema.com
